BEGIN:VCALENDAR
VERSION:2.0
PRODID:-//SpacePolicyOnline.com - ECPv6.15.11//NONSGML v1.0//EN
CALSCALE:GREGORIAN
METHOD:PUBLISH
X-WR-CALNAME:SpacePolicyOnline.com
X-ORIGINAL-URL:https://spacepolicyonline.com
X-WR-CALDESC:Events for SpacePolicyOnline.com
REFRESH-INTERVAL;VALUE=DURATION:PT1H
X-Robots-Tag:noindex
X-PUBLISHED-TTL:PT1H
BEGIN:VTIMEZONE
TZID:America/New_York
BEGIN:DAYLIGHT
TZOFFSETFROM:-0500
TZOFFSETTO:-0400
TZNAME:EDT
DTSTART:20220313T070000
END:DAYLIGHT
BEGIN:STANDARD
TZOFFSETFROM:-0400
TZOFFSETTO:-0500
TZNAME:EST
DTSTART:20221106T060000
END:STANDARD
BEGIN:DAYLIGHT
TZOFFSETFROM:-0500
TZOFFSETTO:-0400
TZNAME:EDT
DTSTART:20230312T070000
END:DAYLIGHT
BEGIN:STANDARD
TZOFFSETFROM:-0400
TZOFFSETTO:-0500
TZNAME:EST
DTSTART:20231105T060000
END:STANDARD
BEGIN:DAYLIGHT
TZOFFSETFROM:-0500
TZOFFSETTO:-0400
TZNAME:EDT
DTSTART:20240310T070000
END:DAYLIGHT
BEGIN:STANDARD
TZOFFSETFROM:-0400
TZOFFSETTO:-0500
TZNAME:EST
DTSTART:20241103T060000
END:STANDARD
END:VTIMEZONE
BEGIN:VEVENT
DTSTART;TZID=America/New_York:20230124T100000
DTEND;TZID=America/New_York:20230124T230000
DTSTAMP:20260422T093631
CREATED:20230120T183205Z
LAST-MODIFIED:20230124T152208Z
UID:59414-1674554400-1674601200@spacepolicyonline.com
SUMMARY:FIRESIDE CHAT WITH TOP NASA-DARPA OFFICIALS ON NEW COLLABORATION ON ADVANCED SPACE PROPULSION (AIAA SciTech)\, Jan 24\, 2023\, National Harbor\, MD\, 10:00 am ET
DESCRIPTION:NASA Administrator Bill Nelson\, NASA Deputy Administrator Pam Melroy and DARPA Director Stefanie Tompkins will participate in a Fireside Chat at AIAA’s SciTech Forum in National Harbor\, MD on January 24\, 2023 at 10:00 am ET. \nThe topic is: “New Collaboration to Advance Propulsion Technologies.” \nThe event will be broadcast on NASA Television\, the NASA app\, and the agency’s website. \nOther SciTech sessions involving NASA officials are listed in a NASA press release\, but they apparently will not be broadcast on NASA TV or its other public outlets.
URL:https://spacepolicyonline.com/events/fireside-chat-with-top-nasa-darpa-officials-on-new-collaboration-on-advanced-space-propulsion-aiaa-scitech-jan-24-2023-national-harbor-md-1000-am-et/
END:VEVENT
END:VCALENDAR