BEGIN:VCALENDAR
VERSION:2.0
PRODID:-//SpacePolicyOnline.com - ECPv6.15.11//NONSGML v1.0//EN
CALSCALE:GREGORIAN
METHOD:PUBLISH
X-WR-CALNAME:SpacePolicyOnline.com
X-ORIGINAL-URL:https://spacepolicyonline.com
X-WR-CALDESC:Events for SpacePolicyOnline.com
REFRESH-INTERVAL;VALUE=DURATION:PT1H
X-Robots-Tag:noindex
X-PUBLISHED-TTL:PT1H
BEGIN:VTIMEZONE
TZID:America/New_York
BEGIN:DAYLIGHT
TZOFFSETFROM:-0500
TZOFFSETTO:-0400
TZNAME:EDT
DTSTART:20230312T070000
END:DAYLIGHT
BEGIN:STANDARD
TZOFFSETFROM:-0400
TZOFFSETTO:-0500
TZNAME:EST
DTSTART:20231105T060000
END:STANDARD
BEGIN:DAYLIGHT
TZOFFSETFROM:-0500
TZOFFSETTO:-0400
TZNAME:EDT
DTSTART:20240310T070000
END:DAYLIGHT
BEGIN:STANDARD
TZOFFSETFROM:-0400
TZOFFSETTO:-0500
TZNAME:EST
DTSTART:20241103T060000
END:STANDARD
BEGIN:DAYLIGHT
TZOFFSETFROM:-0500
TZOFFSETTO:-0400
TZNAME:EDT
DTSTART:20250309T070000
END:DAYLIGHT
BEGIN:STANDARD
TZOFFSETFROM:-0400
TZOFFSETTO:-0500
TZNAME:EST
DTSTART:20251102T060000
END:STANDARD
END:VTIMEZONE
BEGIN:VEVENT
DTSTART;TZID=America/New_York:20241024T120000
DTEND;TZID=America/New_York:20241024T230000
DTSTAMP:20260420T165731
CREATED:20241020T200732Z
LAST-MODIFIED:20241020T200830Z
UID:75342-1729771200-1729810800@spacepolicyonline.com
SUMMARY:FIRST LOOK AT SPACE AGENDA 2025 (Aerospace Corp)\, Oct 24\, 2024\, virtual\, 12:00-1:15 pm ET
DESCRIPTION:The Aerospace Corporation will hold a webinar on October 24\, 2024 from 12:00-1:15 pm ET to discuss several of the 16  papers it calls “Space Agenda 2025” that it has prepared to “inform incoming U.S. policymakers and space sector leaders about critical issues in three key areas: strengthening leadership and competitiveness\, catalyzing commercial space and charting future value.” \n\nSpace Agenda 2025 Overview – Jamie Morin and Kara Cunzeman\nSpace-Enabled Capabilities for Connecting and Collaborating in the Arctic – Karen Jones\nLeverage and Preserve: Need for DOD to Strengthen Support for U.S. Commercial Space – Sam Wilson\nSpace Regulatory Reform Is a Wicked Problem Still Worth Tackling – Brian Weeden\nSpace Sustainability in the Context of Contested Space – Marlon Sorge\nMoonstruck! International Aspirations in Cislunar Space – Angie Bukley\n\nMore information and registration instructions (register by noon\, October 22) are on the event’s website.
URL:https://spacepolicyonline.com/events/first-look-at-space-agenda-2025aerospace-corp-oct-24-2024-virtual-1200-115-pm-et/
END:VEVENT
END:VCALENDAR