BEGIN:VCALENDAR
VERSION:2.0
PRODID:-//SpacePolicyOnline.com - ECPv6.15.11//NONSGML v1.0//EN
CALSCALE:GREGORIAN
METHOD:PUBLISH
X-WR-CALNAME:SpacePolicyOnline.com
X-ORIGINAL-URL:https://spacepolicyonline.com
X-WR-CALDESC:Events for SpacePolicyOnline.com
REFRESH-INTERVAL;VALUE=DURATION:PT1H
X-Robots-Tag:noindex
X-PUBLISHED-TTL:PT1H
BEGIN:VTIMEZONE
TZID:America/New_York
BEGIN:DAYLIGHT
TZOFFSETFROM:-0500
TZOFFSETTO:-0400
TZNAME:EDT
DTSTART:20200308T070000
END:DAYLIGHT
BEGIN:STANDARD
TZOFFSETFROM:-0400
TZOFFSETTO:-0500
TZNAME:EST
DTSTART:20201101T060000
END:STANDARD
BEGIN:DAYLIGHT
TZOFFSETFROM:-0500
TZOFFSETTO:-0400
TZNAME:EDT
DTSTART:20210314T070000
END:DAYLIGHT
BEGIN:STANDARD
TZOFFSETFROM:-0400
TZOFFSETTO:-0500
TZNAME:EST
DTSTART:20211107T060000
END:STANDARD
BEGIN:DAYLIGHT
TZOFFSETFROM:-0500
TZOFFSETTO:-0400
TZNAME:EDT
DTSTART:20220313T070000
END:DAYLIGHT
BEGIN:STANDARD
TZOFFSETFROM:-0400
TZOFFSETTO:-0500
TZNAME:EST
DTSTART:20221106T060000
END:STANDARD
END:VTIMEZONE
BEGIN:VEVENT
DTSTART;TZID=America/New_York:20210719T130000
DTEND;TZID=America/New_York:20210719T230000
DTSTAMP:20260419T125051
CREATED:20210710T162252Z
LAST-MODIFIED:20210710T162252Z
UID:45211-1626699600-1626735600@spacepolicyonline.com
SUMMARY:FOUNDATION FOR ASSESSING HEALTH OF NASA SMD RESEARCH COMMUNITIES (Natl Acad)\, July 19\, 2021\, virtual\, 12:00-5:00 pm ET
DESCRIPTION:The Committee on Foundation for Assessing the Health and Vitality of the NASA Science Mission Directorate’s Research Communities of the National Academies of Sciences\, Engineering and Medicine will meet virtually on July 19\, 2021 from 12:00-5:00 pm ET. \nSome sessions are open and some are closed.  According to the agenda posted on July 10\, the open session is from 1:00–3:00 pm ET.
URL:https://spacepolicyonline.com/events/foundation-for-assessing-health-of-nasa-smd-research-communities-natl-acad-july-19-2021-virtual-1200-500-pm-et/
END:VEVENT
END:VCALENDAR