BEGIN:VCALENDAR
VERSION:2.0
PRODID:-//SpacePolicyOnline.com - ECPv6.15.11//NONSGML v1.0//EN
CALSCALE:GREGORIAN
METHOD:PUBLISH
X-WR-CALNAME:SpacePolicyOnline.com
X-ORIGINAL-URL:https://spacepolicyonline.com
X-WR-CALDESC:Events for SpacePolicyOnline.com
REFRESH-INTERVAL;VALUE=DURATION:PT1H
X-Robots-Tag:noindex
X-PUBLISHED-TTL:PT1H
BEGIN:VTIMEZONE
TZID:America/New_York
BEGIN:DAYLIGHT
TZOFFSETFROM:-0500
TZOFFSETTO:-0400
TZNAME:EDT
DTSTART:20160313T070000
END:DAYLIGHT
BEGIN:STANDARD
TZOFFSETFROM:-0400
TZOFFSETTO:-0500
TZNAME:EST
DTSTART:20161106T060000
END:STANDARD
BEGIN:DAYLIGHT
TZOFFSETFROM:-0500
TZOFFSETTO:-0400
TZNAME:EDT
DTSTART:20170312T070000
END:DAYLIGHT
BEGIN:STANDARD
TZOFFSETFROM:-0400
TZOFFSETTO:-0500
TZNAME:EST
DTSTART:20171105T060000
END:STANDARD
BEGIN:DAYLIGHT
TZOFFSETFROM:-0500
TZOFFSETTO:-0400
TZNAME:EDT
DTSTART:20180311T070000
END:DAYLIGHT
BEGIN:STANDARD
TZOFFSETFROM:-0400
TZOFFSETTO:-0500
TZNAME:EST
DTSTART:20181104T060000
END:STANDARD
END:VTIMEZONE
BEGIN:VEVENT
DTSTART;TZID=America/New_York:20170119T000000
DTEND;TZID=America/New_York:20170119T000000
DTSTAMP:20260421T072705
CREATED:20170109T124452Z
LAST-MODIFIED:20170109T124452Z
UID:8663-1484784000-1484784000@spacepolicyonline.com
SUMMARY:Future in Space: JWST Less Than 2 Yrs Away\, Jan 2017\, virtual
DESCRIPTION:The next “Future in Space hangout\,” endorsed by the American Astronautical Society and the American Astronomical Society\, will take place  on January 19\, 2017 at 3:00 pm ET.  The topic is:  “Future in Space:  The Webb Telescope is Less Than Two Years Away.” \nJoin hosts Tony Darnell\, Alberto Conti and Harley Thronsen as they discuss the James Webb Space Telescope (JWST) with two JWST scientists Dr. Jonathan Gardner and Dr. Randy Kimble. \nHangouts take place via YouTube and Facebook\, with chat via http://deepastronomy.com/live.  More information and links are in the emailed announcement\, which is reproduced below: \nFUTURE IN SPACE: THE WEBB TELESCOPE IS LESS THAN TWO YEARS AWAY! \n  \n3:00 pm ET\, January 19\, 2017 \n  \nWith the Hubble Space Telescope still going strong\, astronomers around the world are growing increasingly excited about the prospect of it being joined late next year by NASA’s James Webb Space Telescope (JWST). \nJoin Tony Darnell\, Alberto Conti\, and Harley Thronson as they discuss the latest news about this breakthrough facility with two senior NASA scientists working on Webb\, Drs. Jonathan Gardner and Randy Kimble. \n  \nFuture in Space Hangouts are endorsed by the American Astronomical Society and the American Astronautical Society. \n  \nLive chat will be opened one hour prior to event at:http://deepastronomy.com/live \n  \nPast Future in Space Hangouts available here: \nhttps://www.youtube.com/playlist?list=PLqUxw0yinjbpuiLMBGMXe-3gLKGpILUNF  \n  \nYouTube: \nhttps://www.youtube.com/watch?v=1xwC_RSPc2Y \n  \nFacebook: \nhttps://www.facebook.com/events/1210898158964546/ \n  \nTwitter: \n#FutureInSpace \n  \nPast Hangout Episodes: \nhttps://www.youtube.com/playlist?list=PLqUxw0yinjbpuiLMBGMXe-3gLKGpILUNF
URL:https://spacepolicyonline.com/events/future-in-space-jwst-less-than-2-yrs-away-jan-2017-virtual/
END:VEVENT
END:VCALENDAR