BEGIN:VCALENDAR
VERSION:2.0
PRODID:-//SpacePolicyOnline.com - ECPv6.15.11//NONSGML v1.0//EN
CALSCALE:GREGORIAN
METHOD:PUBLISH
X-WR-CALNAME:SpacePolicyOnline.com
X-ORIGINAL-URL:https://spacepolicyonline.com
X-WR-CALDESC:Events for SpacePolicyOnline.com
REFRESH-INTERVAL;VALUE=DURATION:PT1H
X-Robots-Tag:noindex
X-PUBLISHED-TTL:PT1H
BEGIN:VTIMEZONE
TZID:America/New_York
BEGIN:DAYLIGHT
TZOFFSETFROM:-0500
TZOFFSETTO:-0400
TZNAME:EDT
DTSTART:20200308T070000
END:DAYLIGHT
BEGIN:STANDARD
TZOFFSETFROM:-0400
TZOFFSETTO:-0500
TZNAME:EST
DTSTART:20201101T060000
END:STANDARD
BEGIN:DAYLIGHT
TZOFFSETFROM:-0500
TZOFFSETTO:-0400
TZNAME:EDT
DTSTART:20210314T070000
END:DAYLIGHT
BEGIN:STANDARD
TZOFFSETFROM:-0400
TZOFFSETTO:-0500
TZNAME:EST
DTSTART:20211107T060000
END:STANDARD
BEGIN:DAYLIGHT
TZOFFSETFROM:-0500
TZOFFSETTO:-0400
TZNAME:EDT
DTSTART:20220313T070000
END:DAYLIGHT
BEGIN:STANDARD
TZOFFSETFROM:-0400
TZOFFSETTO:-0500
TZNAME:EST
DTSTART:20221106T060000
END:STANDARD
END:VTIMEZONE
BEGIN:VEVENT
DTSTART;TZID=America/New_York:20210512T123000
DTEND;TZID=America/New_York:20210512T230000
DTSTAMP:20260420T131528
CREATED:20210510T175433Z
LAST-MODIFIED:20210510T175433Z
UID:43848-1620822600-1620860400@spacepolicyonline.com
SUMMARY:FUTURE OF MOBILITY (The Hill)\, May 12\, 2021\, virtual\, 12:30 pm ET
DESCRIPTION:The Hill will host a webinar on “The Future of Mobility” on May 12\, 2021 at 12:30 pm ET. \nAmong the speakers is Karina Drees\, President of the Commercial Spaceflight Federation. \nMore information is on the event’s website\, which says: \nThe intersection of technology and transportation is transforming life as we know it. \nAutonomous vehicle infrastructure has arrived. In a few years there will be no circling the block to find a parking space. In fact\, no parking\, no driver. All of this transformation will piggyback on next-gen mobility infrastructure. \nRoad\, rail\, freight\, public transport\, shared services\, drone\, space taxi—the future of travel requires advanced infrastructure; modern connected\, intelligent data systems; and responsive mobility solutions. \nHow is game-changing technology changing the face of American travel? What will President Biden’s proposed infrastructure plan mean for mobility? And how can sustainability be prioritized in current and future transportation systems? \n 
URL:https://spacepolicyonline.com/events/future-of-mobility-the-hill-may-12-2021-virtual-1230-pm-et/
END:VEVENT
END:VCALENDAR