BEGIN:VCALENDAR
VERSION:2.0
PRODID:-//SpacePolicyOnline.com - ECPv6.15.11//NONSGML v1.0//EN
CALSCALE:GREGORIAN
METHOD:PUBLISH
X-WR-CALNAME:SpacePolicyOnline.com
X-ORIGINAL-URL:https://spacepolicyonline.com
X-WR-CALDESC:Events for SpacePolicyOnline.com
REFRESH-INTERVAL;VALUE=DURATION:PT1H
X-Robots-Tag:noindex
X-PUBLISHED-TTL:PT1H
BEGIN:VTIMEZONE
TZID:America/New_York
BEGIN:DAYLIGHT
TZOFFSETFROM:-0500
TZOFFSETTO:-0400
TZNAME:EDT
DTSTART:20210314T070000
END:DAYLIGHT
BEGIN:STANDARD
TZOFFSETFROM:-0400
TZOFFSETTO:-0500
TZNAME:EST
DTSTART:20211107T060000
END:STANDARD
BEGIN:DAYLIGHT
TZOFFSETFROM:-0500
TZOFFSETTO:-0400
TZNAME:EDT
DTSTART:20220313T070000
END:DAYLIGHT
BEGIN:STANDARD
TZOFFSETFROM:-0400
TZOFFSETTO:-0500
TZNAME:EST
DTSTART:20221106T060000
END:STANDARD
BEGIN:DAYLIGHT
TZOFFSETFROM:-0500
TZOFFSETTO:-0400
TZNAME:EDT
DTSTART:20230312T070000
END:DAYLIGHT
BEGIN:STANDARD
TZOFFSETFROM:-0400
TZOFFSETTO:-0500
TZNAME:EST
DTSTART:20231105T060000
END:STANDARD
END:VTIMEZONE
BEGIN:VEVENT
DTSTART;TZID=America/New_York:20221026T080000
DTEND;TZID=America/New_York:20221026T230000
DTSTAMP:20260423T201919
CREATED:20221023T170405Z
LAST-MODIFIED:20221023T170405Z
UID:57214-1666771200-1666825200@spacepolicyonline.com
SUMMARY:FUTURE OF U.K. HUMAN SPACEFLIGHT SYMPOSIUM (BIS)\, Oct 26\, 2022\, London\, UK\, 09:00-17:00 GMT
DESCRIPTION:The British Interplanetary Society (BIS) will hold a one-day symposium on October 26\, 2022 at its offices at 27-29 South Lambeth Road\, London\, UK.  The topic is the “Future of UK Human Spaceflight.” \nThe in-person event will take place from 09:00-17:00 GMT (not British Summer Time) according to the event’s website.
URL:https://spacepolicyonline.com/events/future-of-u-k-human-spaceflight-symposium-bis-oct-26-2022-london-uk-0900-1700-gmt/
END:VEVENT
END:VCALENDAR