BEGIN:VCALENDAR
VERSION:2.0
PRODID:-//SpacePolicyOnline.com - ECPv6.15.11//NONSGML v1.0//EN
CALSCALE:GREGORIAN
METHOD:PUBLISH
X-WR-CALNAME:SpacePolicyOnline.com
X-ORIGINAL-URL:https://spacepolicyonline.com
X-WR-CALDESC:Events for SpacePolicyOnline.com
REFRESH-INTERVAL;VALUE=DURATION:PT1H
X-Robots-Tag:noindex
X-PUBLISHED-TTL:PT1H
BEGIN:VTIMEZONE
TZID:America/New_York
BEGIN:DAYLIGHT
TZOFFSETFROM:-0500
TZOFFSETTO:-0400
TZNAME:EDT
DTSTART:20200308T070000
END:DAYLIGHT
BEGIN:STANDARD
TZOFFSETFROM:-0400
TZOFFSETTO:-0500
TZNAME:EST
DTSTART:20201101T060000
END:STANDARD
BEGIN:DAYLIGHT
TZOFFSETFROM:-0500
TZOFFSETTO:-0400
TZNAME:EDT
DTSTART:20210314T070000
END:DAYLIGHT
BEGIN:STANDARD
TZOFFSETFROM:-0400
TZOFFSETTO:-0500
TZNAME:EST
DTSTART:20211107T060000
END:STANDARD
BEGIN:DAYLIGHT
TZOFFSETFROM:-0500
TZOFFSETTO:-0400
TZNAME:EDT
DTSTART:20220313T070000
END:DAYLIGHT
BEGIN:STANDARD
TZOFFSETFROM:-0400
TZOFFSETTO:-0500
TZNAME:EST
DTSTART:20221106T060000
END:STANDARD
END:VTIMEZONE
BEGIN:VEVENT
DTSTART;TZID=America/New_York:20210304T190000
DTEND;TZID=America/New_York:20210304T230000
DTSTAMP:20260419T225428
CREATED:20210218T143859Z
LAST-MODIFIED:20210218T143859Z
UID:41675-1614884400-1614898800@spacepolicyonline.com
SUMMARY:FUTURE OF U.S.-JAPAN COLLABORATION IN THE SPACE BUSINESS INDUSTRY (JAXA et al)\, Mar 4\, 2021\, virtual\, 7:00-9:00 pm ET
DESCRIPTION:The Japan Aerospace Exploration Agency (JAXA)\, NASA Ames Research Center\, and X-Nihonbashi will hold a webinar on March 4\, 2021 from 7:00 -9:00 pm Eastern Standard Time (March 5\, 2021\, 9:00-11:00 am in Japan) to discuss “Future of U.S. Japan Collaboration in the Space Business Industry.” \nThe event will be in English with Japanese simultaneous translation available. \nMore information and a registration link are on the event’s website\, which says: \nIn 2021\, JAXA and X-Nihonbashi will implement “X-NIHONBASHI Global Hub’21” which is a business matching program between Japan and the U.S. aiming to promote collaboration between Japanese and U.S. companies in the space domain\, as well as entry from non-space domains. JAXA and X-Nihonbashi will be doing so in cooperation with NASA Ames Research Center. \nFor this program\, we are planning a series of events throughout the year.\nThe first event\, which will be the kick-off event\, will have “The Future of US-Japan Collaboration in the Space Business Industry” as it’s main theme. \nThere will be an input session by a Japanese global analyst on the current status of the U.S. and Japanese markets regarding the space business and the importance of global partnerships.\nIn addition\, a panel discussion will be held with NASA\, JAXA\, and Japanese and U.S. space related companies who all have extensive international experience to discuss the successes and challenges of U.S.-Japan partnerships on the topic of overseas business development\, including some points that they learned in the process of concluding deals. \n  \nProgram Agenda: \nNavigator: Mr. Motohide Shiga | Head of Industrial Relations/Adviser to the Director\, JAXA Business Development and Industrial Relations Department \n(1) Introduction\nOpening Remarks\nDr. Eugene Tu | Center Director\, NASA Ames\nMs. Kyoko Dateki | Director\, JAXA Business Development and Industrial Relations Department\nMr. Takashi Watanabe | Project leader\, Mitsui Fudosan Nihonbashi Urban Planning and Development Department \n(2) Input Session\n「Current Status and Analysis of Space Business\, Importance of Global Partnerships」\nMr. Shogo Yakame | Consultant\, Nomura Research Institute \n(3) Panel Discussion\n「Presentation and panel discussion on issues and expectations for U.S.-Japan collaboration」\n< Panelist>\nModerator: Mr. Masashi Sato | Co-Founder\, COO & Director\, SPACETIDE Foundation\nMr. Terry Pagaduan | Business Development Lead\, NASA Ames\nMr. Shinichi Takata | J-SPARC Producer\, JAXA Business Development and Industrial Relations Department\nMr. Michael Fletcher | President\, MJF Consulting\nMr. Masa Nagasaki | Co-Founder & CEO\, Space BD Inc.\nMr. Mike Kim｜Head of APAC & General Manager Japan\, Orbital Insight \n(4) Closing Session\nMr. Motohide Shiga | Head of Industrial Relations/Adviser to the Director\, JAXA Business Development and Industrial Relations Department \n 
URL:https://spacepolicyonline.com/events/future-of-u-s-japan-collaboration-in-the-space-business-industry-jaxa-et-al-mar-4-2021-virtual-700-900-pm-et/
END:VEVENT
END:VCALENDAR