BEGIN:VCALENDAR
VERSION:2.0
PRODID:-//SpacePolicyOnline.com - ECPv6.15.11//NONSGML v1.0//EN
CALSCALE:GREGORIAN
METHOD:PUBLISH
X-WR-CALNAME:SpacePolicyOnline.com
X-ORIGINAL-URL:https://spacepolicyonline.com
X-WR-CALDESC:Events for SpacePolicyOnline.com
REFRESH-INTERVAL;VALUE=DURATION:PT1H
X-Robots-Tag:noindex
X-PUBLISHED-TTL:PT1H
BEGIN:VTIMEZONE
TZID:America/New_York
BEGIN:DAYLIGHT
TZOFFSETFROM:-0500
TZOFFSETTO:-0400
TZNAME:EDT
DTSTART:20230312T070000
END:DAYLIGHT
BEGIN:STANDARD
TZOFFSETFROM:-0400
TZOFFSETTO:-0500
TZNAME:EST
DTSTART:20231105T060000
END:STANDARD
BEGIN:DAYLIGHT
TZOFFSETFROM:-0500
TZOFFSETTO:-0400
TZNAME:EDT
DTSTART:20240310T070000
END:DAYLIGHT
BEGIN:STANDARD
TZOFFSETFROM:-0400
TZOFFSETTO:-0500
TZNAME:EST
DTSTART:20241103T060000
END:STANDARD
BEGIN:DAYLIGHT
TZOFFSETFROM:-0500
TZOFFSETTO:-0400
TZNAME:EDT
DTSTART:20250309T070000
END:DAYLIGHT
BEGIN:STANDARD
TZOFFSETFROM:-0400
TZOFFSETTO:-0500
TZNAME:EST
DTSTART:20251102T060000
END:STANDARD
END:VTIMEZONE
BEGIN:VEVENT
DTSTART;TZID=America/New_York:20241208T073000
DTEND;TZID=America/New_York:20241212T230000
DTSTAMP:20260420T101658
CREATED:20241031T122154Z
LAST-MODIFIED:20241031T124046Z
UID:75569-1733643000-1734044400@spacepolicyonline.com
SUMMARY:GALAXY FORUM CHINA 2024\, Dec 8-12\, 2024\, Hainan\, China
DESCRIPTION:The International Lunar Observatory Association (ILOA) will hold a Galaxy Forum from December 8-12\, 2024 in Hainan\, China. \nThe main themes are “International Human Moon Landings\,” “Astronomy from the Moon\,” and “21st Century Solar System Complete Exploration.” \nMore information is on the event’s website.
URL:https://spacepolicyonline.com/events/galaxy-forum-china-2024-dec-8-12-2024-hainan-china/
END:VEVENT
END:VCALENDAR