BEGIN:VCALENDAR
VERSION:2.0
PRODID:-//SpacePolicyOnline.com - ECPv6.15.11//NONSGML v1.0//EN
CALSCALE:GREGORIAN
METHOD:PUBLISH
X-WR-CALNAME:SpacePolicyOnline.com
X-ORIGINAL-URL:https://spacepolicyonline.com
X-WR-CALDESC:Events for SpacePolicyOnline.com
REFRESH-INTERVAL;VALUE=DURATION:PT1H
X-Robots-Tag:noindex
X-PUBLISHED-TTL:PT1H
BEGIN:VTIMEZONE
TZID:America/New_York
BEGIN:DAYLIGHT
TZOFFSETFROM:-0500
TZOFFSETTO:-0400
TZNAME:EDT
DTSTART:20220313T070000
END:DAYLIGHT
BEGIN:STANDARD
TZOFFSETFROM:-0400
TZOFFSETTO:-0500
TZNAME:EST
DTSTART:20221106T060000
END:STANDARD
BEGIN:DAYLIGHT
TZOFFSETFROM:-0500
TZOFFSETTO:-0400
TZNAME:EDT
DTSTART:20230312T070000
END:DAYLIGHT
BEGIN:STANDARD
TZOFFSETFROM:-0400
TZOFFSETTO:-0500
TZNAME:EST
DTSTART:20231105T060000
END:STANDARD
BEGIN:DAYLIGHT
TZOFFSETFROM:-0500
TZOFFSETTO:-0400
TZNAME:EDT
DTSTART:20240310T070000
END:DAYLIGHT
BEGIN:STANDARD
TZOFFSETFROM:-0400
TZOFFSETTO:-0500
TZNAME:EST
DTSTART:20241103T060000
END:STANDARD
END:VTIMEZONE
BEGIN:VEVENT
DTSTART;TZID=America/New_York:20230614T073000
DTEND;TZID=America/New_York:20230616T230000
DTSTAMP:20260425T222451
CREATED:20230424T172129Z
LAST-MODIFIED:20230424T172129Z
UID:61638-1686727800-1686956400@spacepolicyonline.com
SUMMARY:GLOBAL EXPLORATION SUMMIT (GLEX SUMMIT)\, June 14-16\, 2023\, Azores
DESCRIPTION:The Explorers Club will hold the 4th Global Exploration Summit from June 14-16\, 2023 on Terceira Island\, Azores\, Portugal. The theme is: “What’s Next? Discoveries from the Edge.” \nPanelists include: \n\nNina Lanza\, planetary scientist at Los Alamos National Lab\,\nNathalie Cabrol\, astrobiologist and Director of the SETI Institute\,\nChristyl Johnson\, Deputy Director for Technology and Research Investments\, NASA Goddard Space Flight Center\n\nMore information is on the event’s website\, which says: \nGLEX Summit – What’s Next? Discoveries from the Edge \nThe Global Exploration Summit (GLEX Summit) brings together the world’s leading explorers sharing the latest advancements in oceans\, land\, space\, and conservation. \nThis year\, The Explorers Club and Expanding World unite the great explorers and space pioneers of our time in a three-day event on Terceira island (Azores\, Portugal)\, from June 14-16. The talented and diverse lineup of speakers will share discoveries and cutting-edge technology that will propel humanity towards the future of exploration. \nWe have announced the first 15 speakers which include archaeologist and diplomat Kathleen Martinez-Nazar\, astrobiologist Nathalie Cabrol\, marine biologist Nathan J. Robinson\, planetary scientist Nina Lanza\, and conservationist Alejandro Arteaga. More speakers announcement coming soon. \n  \n 
URL:https://spacepolicyonline.com/events/global-exploration-summit-glex-summit-june-14-16-2023-azores/
END:VEVENT
END:VCALENDAR