BEGIN:VCALENDAR
VERSION:2.0
PRODID:-//SpacePolicyOnline.com - ECPv6.15.11//NONSGML v1.0//EN
CALSCALE:GREGORIAN
METHOD:PUBLISH
X-WR-CALNAME:SpacePolicyOnline.com
X-ORIGINAL-URL:https://spacepolicyonline.com
X-WR-CALDESC:Events for SpacePolicyOnline.com
REFRESH-INTERVAL;VALUE=DURATION:PT1H
X-Robots-Tag:noindex
X-PUBLISHED-TTL:PT1H
BEGIN:VTIMEZONE
TZID:America/New_York
BEGIN:DAYLIGHT
TZOFFSETFROM:-0500
TZOFFSETTO:-0400
TZNAME:EDT
DTSTART:20220313T070000
END:DAYLIGHT
BEGIN:STANDARD
TZOFFSETFROM:-0400
TZOFFSETTO:-0500
TZNAME:EST
DTSTART:20221106T060000
END:STANDARD
BEGIN:DAYLIGHT
TZOFFSETFROM:-0500
TZOFFSETTO:-0400
TZNAME:EDT
DTSTART:20230312T070000
END:DAYLIGHT
BEGIN:STANDARD
TZOFFSETFROM:-0400
TZOFFSETTO:-0500
TZNAME:EST
DTSTART:20231105T060000
END:STANDARD
BEGIN:DAYLIGHT
TZOFFSETFROM:-0500
TZOFFSETTO:-0400
TZNAME:EDT
DTSTART:20240310T070000
END:DAYLIGHT
BEGIN:STANDARD
TZOFFSETFROM:-0400
TZOFFSETTO:-0500
TZNAME:EST
DTSTART:20241103T060000
END:STANDARD
END:VTIMEZONE
BEGIN:VEVENT
DTSTART;TZID=America/New_York:20230301T060000
DTEND;TZID=America/New_York:20230301T230000
DTSTAMP:20260425T223016
CREATED:20230221T162301Z
LAST-MODIFIED:20230221T162301Z
UID:60024-1677650400-1677711600@spacepolicyonline.com
SUMMARY:GOVERNANCE OF MILITARY SPACE ACTIVITIES: THE MCGILL MANUAL (ASLI)\, Mar 1\, 2023\, virtual\, 6:00 am ET
DESCRIPTION:The African Space Leadership Institute (ASLI) will hold the next episode in its Space Sustainability webinar series on March 1\, 2023 at 1100 UTC (6:00 am EST). \nThe topic is “Governance of Military Space Activities: The McGill Manual (MILAMOS Project).” \nMore information and a registration link are on the event’s website.
URL:https://spacepolicyonline.com/events/governance-of-military-space-activities-the-mcgill-manual-asli-mar-1-2023-virtual-600-am-et/
END:VEVENT
END:VCALENDAR