BEGIN:VCALENDAR
VERSION:2.0
PRODID:-//SpacePolicyOnline.com - ECPv6.15.11//NONSGML v1.0//EN
CALSCALE:GREGORIAN
METHOD:PUBLISH
X-WR-CALNAME:SpacePolicyOnline.com
X-ORIGINAL-URL:https://spacepolicyonline.com
X-WR-CALDESC:Events for SpacePolicyOnline.com
REFRESH-INTERVAL;VALUE=DURATION:PT1H
X-Robots-Tag:noindex
X-PUBLISHED-TTL:PT1H
BEGIN:VTIMEZONE
TZID:America/New_York
BEGIN:DAYLIGHT
TZOFFSETFROM:-0500
TZOFFSETTO:-0400
TZNAME:EDT
DTSTART:20210314T070000
END:DAYLIGHT
BEGIN:STANDARD
TZOFFSETFROM:-0400
TZOFFSETTO:-0500
TZNAME:EST
DTSTART:20211107T060000
END:STANDARD
BEGIN:DAYLIGHT
TZOFFSETFROM:-0500
TZOFFSETTO:-0400
TZNAME:EDT
DTSTART:20220313T070000
END:DAYLIGHT
BEGIN:STANDARD
TZOFFSETFROM:-0400
TZOFFSETTO:-0500
TZNAME:EST
DTSTART:20221106T060000
END:STANDARD
BEGIN:DAYLIGHT
TZOFFSETFROM:-0500
TZOFFSETTO:-0400
TZNAME:EDT
DTSTART:20230312T070000
END:DAYLIGHT
BEGIN:STANDARD
TZOFFSETFROM:-0400
TZOFFSETTO:-0500
TZNAME:EST
DTSTART:20231105T060000
END:STANDARD
END:VTIMEZONE
BEGIN:VEVENT
DTSTART;TZID=America/New_York:20220224T020000
DTEND;TZID=America/New_York:20220224T230000
DTSTAMP:20260419T222506
CREATED:20220220T173502Z
LAST-MODIFIED:20220220T173523Z
UID:50706-1645668000-1645743600@spacepolicyonline.com
SUMMARY:GOVSATCOM 2022 CONFERENCE FOR EU DEFENCE AND SECURITY\, Feb 24\, 2022\, Luxembourg
DESCRIPTION:The GOVSATCOM 2022 Conference for EU Defence and Security will take place on February 24\, 2022 at the European Convention Center in Luxembourg beginning at 8:30 am Central European Time. \nMore information is on the event’s website. \nThe website does not indicate is a virtual option is available.
URL:https://spacepolicyonline.com/events/govsatcom-2022-conference-for-eu-defence-and-security-feb-24-2022-luxembourg/
END:VEVENT
END:VCALENDAR