BEGIN:VCALENDAR
VERSION:2.0
PRODID:-//SpacePolicyOnline.com - ECPv6.15.11//NONSGML v1.0//EN
CALSCALE:GREGORIAN
METHOD:PUBLISH
X-WR-CALNAME:SpacePolicyOnline.com
X-ORIGINAL-URL:https://spacepolicyonline.com
X-WR-CALDESC:Events for SpacePolicyOnline.com
REFRESH-INTERVAL;VALUE=DURATION:PT1H
X-Robots-Tag:noindex
X-PUBLISHED-TTL:PT1H
BEGIN:VTIMEZONE
TZID:America/New_York
BEGIN:DAYLIGHT
TZOFFSETFROM:-0500
TZOFFSETTO:-0400
TZNAME:EDT
DTSTART:20200308T070000
END:DAYLIGHT
BEGIN:STANDARD
TZOFFSETFROM:-0400
TZOFFSETTO:-0500
TZNAME:EST
DTSTART:20201101T060000
END:STANDARD
BEGIN:DAYLIGHT
TZOFFSETFROM:-0500
TZOFFSETTO:-0400
TZNAME:EDT
DTSTART:20210314T070000
END:DAYLIGHT
BEGIN:STANDARD
TZOFFSETFROM:-0400
TZOFFSETTO:-0500
TZNAME:EST
DTSTART:20211107T060000
END:STANDARD
BEGIN:DAYLIGHT
TZOFFSETFROM:-0500
TZOFFSETTO:-0400
TZNAME:EDT
DTSTART:20220313T070000
END:DAYLIGHT
BEGIN:STANDARD
TZOFFSETFROM:-0400
TZOFFSETTO:-0500
TZNAME:EST
DTSTART:20221106T060000
END:STANDARD
END:VTIMEZONE
BEGIN:VEVENT
DTSTART;TZID=America/New_York:20210121T100000
DTEND;TZID=America/New_York:20210121T230000
DTSTAMP:20260419T140307
CREATED:20210108T215451Z
LAST-MODIFIED:20210119T223528Z
UID:40508-1611223200-1611270000@spacepolicyonline.com
SUMMARY:HASC HEARING ON WAIVER TO ALLOW GEN. LLOYD AUSTIN III (RET.) TO SERVE AS SECDEF
DESCRIPTION:Update\, January 19:  Defense News reports that the public hearing has been cancelled and replaced by a closed door meeting because all the members of the committee will not have been named by the time it was supposed to take place.  The House will vote on the waiver on Thursday\, it says. \nUpdate\, January 17:  The HASC website still does not list the hearing\, but it is included in National Journal’s Daybook as a full committee hearing on civilian control of the military. The time is TBA.  Daybook also lists an organizational meeting of the committee at 1:00 pm ET. \nOriginal Entry: House Armed Services Committee (HASC) chairman Adam Smith (D-WA) said on January 8 that he plans to hold a hearing on January 21\, 2021 on the question of granting a waiver to allow Gen. Lloyd Austin III (Ret.) to serve as Secretary of Defense (SecDef) even though he has been retired for only three years\, not the required seven years. \nPresident-elect Joe Biden intends to nominate Austin for the position\, which is subject to Senate confirmation\, but since it requires this waiver\, it must also be considered by the House. \nSmith did not provide other details about when/where the hearing will take place\, but HASC’s hearings are webcast on the committee’s website.  The Capitol Complex remains closed to the general public because of COVID-19. \nSASC plans to hold its confirmation hearing for Austin on January 19. It held a hearing on civilian control of the military   on January 12.
URL:https://spacepolicyonline.com/events/hasc-hearing-on-waiver-to-allow-gen-lloyd-austin-iii-ret-to-serve-as-secdef-jan-21-2021/
END:VEVENT
END:VCALENDAR