BEGIN:VCALENDAR
VERSION:2.0
PRODID:-//SpacePolicyOnline.com - ECPv6.15.11//NONSGML v1.0//EN
CALSCALE:GREGORIAN
METHOD:PUBLISH
X-WR-CALNAME:SpacePolicyOnline.com
X-ORIGINAL-URL:https://spacepolicyonline.com
X-WR-CALDESC:Events for SpacePolicyOnline.com
REFRESH-INTERVAL;VALUE=DURATION:PT1H
X-Robots-Tag:noindex
X-PUBLISHED-TTL:PT1H
BEGIN:VTIMEZONE
TZID:America/New_York
BEGIN:DAYLIGHT
TZOFFSETFROM:-0500
TZOFFSETTO:-0400
TZNAME:EDT
DTSTART:20240310T070000
END:DAYLIGHT
BEGIN:STANDARD
TZOFFSETFROM:-0400
TZOFFSETTO:-0500
TZNAME:EST
DTSTART:20241103T060000
END:STANDARD
BEGIN:DAYLIGHT
TZOFFSETFROM:-0500
TZOFFSETTO:-0400
TZNAME:EDT
DTSTART:20250309T070000
END:DAYLIGHT
BEGIN:STANDARD
TZOFFSETFROM:-0400
TZOFFSETTO:-0500
TZNAME:EST
DTSTART:20251102T060000
END:STANDARD
BEGIN:DAYLIGHT
TZOFFSETFROM:-0500
TZOFFSETTO:-0400
TZNAME:EDT
DTSTART:20260308T070000
END:DAYLIGHT
BEGIN:STANDARD
TZOFFSETFROM:-0400
TZOFFSETTO:-0500
TZNAME:EST
DTSTART:20261101T060000
END:STANDARD
END:VTIMEZONE
BEGIN:VEVENT
DTSTART;TZID=America/New_York:20250612T100000
DTEND;TZID=America/New_York:20250612T230000
DTSTAMP:20260419T113852
CREATED:20250605T121651Z
LAST-MODIFIED:20250605T121651Z
UID:81620-1749722400-1749769200@spacepolicyonline.com
SUMMARY:HASC HRG ON DOD FY2026 BUDGET REQUEST\, June 12\, 2025\, DC\, 10:00 am ET
DESCRIPTION:The House Armed Services Committee will hold a hearing on the FY2026 budget request for DOD on June 12\, 2025 at 10:00 am ET in 2118 Rayburn House Office Building.  The hearing will be webcast. \nWitnesses are: \n\nPete Hegseth\, Secretary of Defense\nGen. Dan Caine\, Chairman of the Joint Chiefs of Stafff
URL:https://spacepolicyonline.com/events/hasc-hrg-on-dod-fy2026-budget-request-june-12-2025-dc-1000-am-et/
END:VEVENT
END:VCALENDAR