BEGIN:VCALENDAR
VERSION:2.0
PRODID:-//SpacePolicyOnline.com - ECPv6.15.11//NONSGML v1.0//EN
CALSCALE:GREGORIAN
METHOD:PUBLISH
X-WR-CALNAME:SpacePolicyOnline.com
X-ORIGINAL-URL:https://spacepolicyonline.com
X-WR-CALDESC:Events for SpacePolicyOnline.com
REFRESH-INTERVAL;VALUE=DURATION:PT1H
X-Robots-Tag:noindex
X-PUBLISHED-TTL:PT1H
BEGIN:VTIMEZONE
TZID:America/New_York
BEGIN:DAYLIGHT
TZOFFSETFROM:-0500
TZOFFSETTO:-0400
TZNAME:EDT
DTSTART:20200308T070000
END:DAYLIGHT
BEGIN:STANDARD
TZOFFSETFROM:-0400
TZOFFSETTO:-0500
TZNAME:EST
DTSTART:20201101T060000
END:STANDARD
BEGIN:DAYLIGHT
TZOFFSETFROM:-0500
TZOFFSETTO:-0400
TZNAME:EDT
DTSTART:20210314T070000
END:DAYLIGHT
BEGIN:STANDARD
TZOFFSETFROM:-0400
TZOFFSETTO:-0500
TZNAME:EST
DTSTART:20211107T060000
END:STANDARD
BEGIN:DAYLIGHT
TZOFFSETFROM:-0500
TZOFFSETTO:-0400
TZNAME:EDT
DTSTART:20220313T070000
END:DAYLIGHT
BEGIN:STANDARD
TZOFFSETFROM:-0400
TZOFFSETTO:-0500
TZNAME:EST
DTSTART:20221106T060000
END:STANDARD
END:VTIMEZONE
BEGIN:VEVENT
DTSTART;TZID=America/New_York:20210623T100000
DTEND;TZID=America/New_York:20210623T230000
DTSTAMP:20260419T193112
CREATED:20210618T121151Z
LAST-MODIFIED:20210618T121151Z
UID:44853-1624442400-1624489200@spacepolicyonline.com
SUMMARY:HASC HRG ON FY2022 DOD BUDGET REQUEST\, June 23\, 2021\, DC/virtual\, 10:00 am ET
DESCRIPTION:The House Armed Services Committee (HASC) will hold a full committee hearing on the FY2022 budget request for the Department of Defense on June 23\, 2021 at 10:00 am ET in 2118 Rayburn House Office Building and virtually.  The hearing will be webcast on the committee’s website. \nWitnesses are: \n\nLloyd Austin III\, Secretary of Defense\nGen. Mark Milley\, Chairman of the Joint Chiefs of Staff
URL:https://spacepolicyonline.com/events/hasc-hrg-on-fy2022-dod-budget-request-june-23-2021-dc-virtual-1000-am-et/
END:VEVENT
END:VCALENDAR