BEGIN:VCALENDAR
VERSION:2.0
PRODID:-//SpacePolicyOnline.com - ECPv6.15.11//NONSGML v1.0//EN
CALSCALE:GREGORIAN
METHOD:PUBLISH
X-WR-CALNAME:SpacePolicyOnline.com
X-ORIGINAL-URL:https://spacepolicyonline.com
X-WR-CALDESC:Events for SpacePolicyOnline.com
REFRESH-INTERVAL;VALUE=DURATION:PT1H
X-Robots-Tag:noindex
X-PUBLISHED-TTL:PT1H
BEGIN:VTIMEZONE
TZID:America/New_York
BEGIN:DAYLIGHT
TZOFFSETFROM:-0500
TZOFFSETTO:-0400
TZNAME:EDT
DTSTART:20250309T070000
END:DAYLIGHT
BEGIN:STANDARD
TZOFFSETFROM:-0400
TZOFFSETTO:-0500
TZNAME:EST
DTSTART:20251102T060000
END:STANDARD
BEGIN:DAYLIGHT
TZOFFSETFROM:-0500
TZOFFSETTO:-0400
TZNAME:EDT
DTSTART:20260308T070000
END:DAYLIGHT
BEGIN:STANDARD
TZOFFSETFROM:-0400
TZOFFSETTO:-0500
TZNAME:EST
DTSTART:20261101T060000
END:STANDARD
BEGIN:DAYLIGHT
TZOFFSETFROM:-0500
TZOFFSETTO:-0400
TZNAME:EDT
DTSTART:20270314T070000
END:DAYLIGHT
BEGIN:STANDARD
TZOFFSETFROM:-0400
TZOFFSETTO:-0500
TZNAME:EST
DTSTART:20271107T060000
END:STANDARD
END:VTIMEZONE
BEGIN:VEVENT
DTSTART;TZID=America/New_York:20260429T100000
DTEND;TZID=America/New_York:20260429T230000
DTSTAMP:20260423T021348
CREATED:20260423T012648Z
LAST-MODIFIED:20260423T012811Z
UID:88518-1777456800-1777503600@spacepolicyonline.com
SUMMARY:HASC HRG ON FY2027 DOD BUDGET REQUEST\, Apr 29\, 2026\, DC\, 10:00 am ET
DESCRIPTION:The House Armed Services Committee will hold a hearing on the FY2027 budget request for the Department of Defense on April 29\, 2026 at 10:00 am ET in 2118 Rayburn House Office Building.  The hearing will be webcast on the committee’s website. \nWitnesses are: \n\nPete Hegseth\, Secretary of Defense\nGen. Dan Caine\, Chairman of the Joint Chiefs of Staff
URL:https://spacepolicyonline.com/events/hasc-hrg-on-fy2027-dod-budget-request-apr-29-2026-dc-1000-am-et/
END:VEVENT
END:VCALENDAR