BEGIN:VCALENDAR
VERSION:2.0
PRODID:-//SpacePolicyOnline.com - ECPv6.15.11//NONSGML v1.0//EN
CALSCALE:GREGORIAN
METHOD:PUBLISH
X-WR-CALNAME:SpacePolicyOnline.com
X-ORIGINAL-URL:https://spacepolicyonline.com
X-WR-CALDESC:Events for SpacePolicyOnline.com
REFRESH-INTERVAL;VALUE=DURATION:PT1H
X-Robots-Tag:noindex
X-PUBLISHED-TTL:PT1H
BEGIN:VTIMEZONE
TZID:America/New_York
BEGIN:DAYLIGHT
TZOFFSETFROM:-0500
TZOFFSETTO:-0400
TZNAME:EDT
DTSTART:20240310T070000
END:DAYLIGHT
BEGIN:STANDARD
TZOFFSETFROM:-0400
TZOFFSETTO:-0500
TZNAME:EST
DTSTART:20241103T060000
END:STANDARD
BEGIN:DAYLIGHT
TZOFFSETFROM:-0500
TZOFFSETTO:-0400
TZNAME:EDT
DTSTART:20250309T070000
END:DAYLIGHT
BEGIN:STANDARD
TZOFFSETFROM:-0400
TZOFFSETTO:-0500
TZNAME:EST
DTSTART:20251102T060000
END:STANDARD
BEGIN:DAYLIGHT
TZOFFSETFROM:-0500
TZOFFSETTO:-0400
TZNAME:EDT
DTSTART:20260308T070000
END:DAYLIGHT
BEGIN:STANDARD
TZOFFSETFROM:-0400
TZOFFSETTO:-0500
TZNAME:EST
DTSTART:20261101T060000
END:STANDARD
END:VTIMEZONE
BEGIN:VEVENT
DTSTART;TZID=America/New_York:20250429T100000
DTEND;TZID=America/New_York:20250429T230000
DTSTAMP:20260419T182432
CREATED:20250428T020230Z
LAST-MODIFIED:20250428T020230Z
UID:80521-1745920800-1745967600@spacepolicyonline.com
SUMMARY:HASC MARKUP OF RECONCILIATION BILL\, Apr 29\, 2025\, DC\, 10:00 am ET
DESCRIPTION:The House Armed Services Committee (HASC) will mark up its portion of the “reconciliation” bill intended to advance President Trump’s agenda on April 29\, 2025 at 10:00 am ET in 2118 Rayburn House Office Building. The meeting will be webcast. \nThey are proposing a $150 billion increase for defense\, some of which will be invested in national security space including $25 billion for creation of a “Golden Dome” layered missile defense system with space-based interceptors. \nHASC posted the text\, a section-by-section analysis\, and a legislative analysis. \n  \n 
URL:https://spacepolicyonline.com/events/hasc-markup-of-reconciliation-bill-apr-29-2025-dc-1000-am-et/
END:VEVENT
END:VCALENDAR