BEGIN:VCALENDAR
VERSION:2.0
PRODID:-//SpacePolicyOnline.com - ECPv6.15.11//NONSGML v1.0//EN
CALSCALE:GREGORIAN
METHOD:PUBLISH
X-WR-CALNAME:SpacePolicyOnline.com
X-ORIGINAL-URL:https://spacepolicyonline.com
X-WR-CALDESC:Events for SpacePolicyOnline.com
REFRESH-INTERVAL;VALUE=DURATION:PT1H
X-Robots-Tag:noindex
X-PUBLISHED-TTL:PT1H
BEGIN:VTIMEZONE
TZID:America/New_York
BEGIN:DAYLIGHT
TZOFFSETFROM:-0500
TZOFFSETTO:-0400
TZNAME:EDT
DTSTART:20220313T070000
END:DAYLIGHT
BEGIN:STANDARD
TZOFFSETFROM:-0400
TZOFFSETTO:-0500
TZNAME:EST
DTSTART:20221106T060000
END:STANDARD
BEGIN:DAYLIGHT
TZOFFSETFROM:-0500
TZOFFSETTO:-0400
TZNAME:EDT
DTSTART:20230312T070000
END:DAYLIGHT
BEGIN:STANDARD
TZOFFSETFROM:-0400
TZOFFSETTO:-0500
TZNAME:EST
DTSTART:20231105T060000
END:STANDARD
BEGIN:DAYLIGHT
TZOFFSETFROM:-0500
TZOFFSETTO:-0400
TZNAME:EDT
DTSTART:20240310T070000
END:DAYLIGHT
BEGIN:STANDARD
TZOFFSETFROM:-0400
TZOFFSETTO:-0500
TZNAME:EST
DTSTART:20241103T060000
END:STANDARD
END:VTIMEZONE
BEGIN:VEVENT
DTSTART;TZID=America/New_York:20230613T100000
DTEND;TZID=America/New_York:20230613T230000
DTSTAMP:20260425T223638
CREATED:20230605T215549Z
LAST-MODIFIED:20230605T215549Z
UID:62660-1686650400-1686697200@spacepolicyonline.com
SUMMARY:HASC STRATEGIC FORCES SUBCOMMITTEE MARKUP OF FY2024 NDAA\, June 13\, 2023\, DC\, 10:00 am ET
DESCRIPTION:The House Armed Services Committee’s seven subcommittees will mark up their portions of the FY2024 National Defense Authorization Act (NDAA) on June 13-14\, 2023. \nThe Strategic Forces subcommittee\, which handles most space issues\, will mark up its portion on June 13 at 10:00 am ET in 2118 Rayburn House Office Building. It is open and will be webcast on the committee’s website. \nThe full schedule is in the committee’s press release. \nFull committee markup is on June 21 (see our separate Calendar entry).
URL:https://spacepolicyonline.com/events/hasc-strategic-forces-subcommittee-markup-of-fy2024-ndaa-june-13-2023-dc-1000-am-et/
END:VEVENT
END:VCALENDAR