BEGIN:VCALENDAR
VERSION:2.0
PRODID:-//SpacePolicyOnline.com - ECPv6.15.11//NONSGML v1.0//EN
CALSCALE:GREGORIAN
METHOD:PUBLISH
X-WR-CALNAME:SpacePolicyOnline.com
X-ORIGINAL-URL:https://spacepolicyonline.com
X-WR-CALDESC:Events for SpacePolicyOnline.com
REFRESH-INTERVAL;VALUE=DURATION:PT1H
X-Robots-Tag:noindex
X-PUBLISHED-TTL:PT1H
BEGIN:VTIMEZONE
TZID:America/New_York
BEGIN:DAYLIGHT
TZOFFSETFROM:-0500
TZOFFSETTO:-0400
TZNAME:EDT
DTSTART:20160313T070000
END:DAYLIGHT
BEGIN:STANDARD
TZOFFSETFROM:-0400
TZOFFSETTO:-0500
TZNAME:EST
DTSTART:20161106T060000
END:STANDARD
BEGIN:DAYLIGHT
TZOFFSETFROM:-0500
TZOFFSETTO:-0400
TZNAME:EDT
DTSTART:20170312T070000
END:DAYLIGHT
BEGIN:STANDARD
TZOFFSETFROM:-0400
TZOFFSETTO:-0500
TZNAME:EST
DTSTART:20171105T060000
END:STANDARD
BEGIN:DAYLIGHT
TZOFFSETFROM:-0500
TZOFFSETTO:-0400
TZNAME:EDT
DTSTART:20180311T070000
END:DAYLIGHT
BEGIN:STANDARD
TZOFFSETFROM:-0400
TZOFFSETTO:-0500
TZNAME:EST
DTSTART:20181104T060000
END:STANDARD
END:VTIMEZONE
BEGIN:VEVENT
DTSTART;TZID=America/New_York:20171012T080000
DTEND;TZID=America/New_York:20171012T170000
DTSTAMP:20260422T211359
CREATED:20171011T010854Z
LAST-MODIFIED:20171011T010854Z
UID:10981-1507795200-1507827600@spacepolicyonline.com
SUMMARY:HISPANIC HERITAGE MONTH AT NASA\, Oct 12\, 2017\, 10:00 am ET (NASA TV)
DESCRIPTION:NASA will hold an event in commemoration of Hispanic Heritage Month at 10:00 am ET on October 12\, 2017 with a discussion of the contributions of Hispanics to NASA’s mission and the importance of Hispanic representation in STEM fields.  It will be broadcast on NASA TV. \nOpening remarks will be delivered via video from Dr. Ellen Ochoa\, director of Johnson Space Center\, the first Hispanic woman in space.   It will be followed by a panel moderated by Elvis Cordova\, former acting under secretary for the U.S. Department of Agriculture.  Panelists are: \n\nDr. Marla Perez Davis\, deputy center director\, NASA’s Glenn Research Center\, Cleveland\nSandra Cauffman\, Earth Science Division deputy director\, NASA Headquarters\nDr. Yaireska M. Collado-Vega\, physical scientist\, NASA’s Goddard Space Flight Center\, Greenbelt\, Md.\nMarilé Colón Robles\, education outreach coordinator\, NASA’s Langley Research Center\, Hampton\, Va.\nDr. Carolina Aguirre\, director\, Reaching Rural STEM Students\, University of New Mexico\nJose Antonio Tijerino\, president and CEO\, Hispanic Heritage Foundation\n\nActing NASA Administrator Robert Lightfoot will provide closing remarks by recorded video. \n 
URL:https://spacepolicyonline.com/events/hispanic-heritage-month-at-nasa-oct-12-2017-1000-am-et-nasa-tv/
END:VEVENT
END:VCALENDAR