BEGIN:VCALENDAR
VERSION:2.0
PRODID:-//SpacePolicyOnline.com - ECPv6.15.11//NONSGML v1.0//EN
CALSCALE:GREGORIAN
METHOD:PUBLISH
X-WR-CALNAME:SpacePolicyOnline.com
X-ORIGINAL-URL:https://spacepolicyonline.com
X-WR-CALDESC:Events for SpacePolicyOnline.com
REFRESH-INTERVAL;VALUE=DURATION:PT1H
X-Robots-Tag:noindex
X-PUBLISHED-TTL:PT1H
BEGIN:VTIMEZONE
TZID:America/New_York
BEGIN:DAYLIGHT
TZOFFSETFROM:-0500
TZOFFSETTO:-0400
TZNAME:EDT
DTSTART:20170312T070000
END:DAYLIGHT
BEGIN:STANDARD
TZOFFSETFROM:-0400
TZOFFSETTO:-0500
TZNAME:EST
DTSTART:20171105T060000
END:STANDARD
BEGIN:DAYLIGHT
TZOFFSETFROM:-0500
TZOFFSETTO:-0400
TZNAME:EDT
DTSTART:20180311T070000
END:DAYLIGHT
BEGIN:STANDARD
TZOFFSETFROM:-0400
TZOFFSETTO:-0500
TZNAME:EST
DTSTART:20181104T060000
END:STANDARD
BEGIN:DAYLIGHT
TZOFFSETFROM:-0500
TZOFFSETTO:-0400
TZNAME:EDT
DTSTART:20190310T070000
END:DAYLIGHT
BEGIN:STANDARD
TZOFFSETFROM:-0400
TZOFFSETTO:-0500
TZNAME:EST
DTSTART:20191103T060000
END:STANDARD
END:VTIMEZONE
BEGIN:VEVENT
DTSTART;TZID=America/New_York:20180718T173000
DTEND;TZID=America/New_York:20180718T230000
DTSTAMP:20260424T055349
CREATED:20180715T191716Z
LAST-MODIFIED:20180715T191716Z
UID:19212-1531935000-1531954800@spacepolicyonline.com
SUMMARY:HOT TOPICS IN PUBLIC POLICY: THE SECOND SPACE AGE\, July 18\, 2018\, DC\, 5:30-7:30 pm ET (closed to media)
DESCRIPTION:The Government Affairs Industry Network (GAIN)\, Barnes & Thornburg LLP\, and the Aerospace Corporation will hold a seminar on “Hot Topics in Public Policy: The Second Space Age” on July 18\, 2018 from 5:30-7:30 pm ET at the offices of Barnes & Thornburg\, 1717 Pennsylvania Ave.\, NW\, #500\, Washington\, DC. \nThe event’s sponsors make the following declaration: \nWe have designed this event to fully comply with US Senate Rule 35.1(d)(1)\, US House Ethics Manual pp. 41-47\, and the U.S. Executive Branch Gift Rules regarding the “widely attended event” exception to the gift rules. US Senate and House staff are advised to consult with the US Senate and House Ethics Committee to confirm this analysis. US Executive Branch employees are advised to consult with their agency counsel. State and municipal employees are advised to consult with their agency counsel as to applicable gift rules for their jurisdiction before participating in the event. \nThis is an informal\, off-the-record discussion that is closed to the media. \nMore information and registration instructions (for those who not excluded!) are on the event’s website. \nSpeakers are: \n\nDavid Eccles\, Deputy Director\, Center for Space Policy and Strategy\, Aerospace Corp.\nTommy Sanford\, Executive Director\, Commercial Spaceflight Federation\nAlex MacDonald\, Emerging Space Program Executive\, NASA\n\n 
URL:https://spacepolicyonline.com/events/hot-topics-in-public-policy-the-second-space-age-july-18-2018-dc-530-730-pm-et-closed-to-media/
END:VEVENT
END:VCALENDAR