BEGIN:VCALENDAR
VERSION:2.0
PRODID:-//SpacePolicyOnline.com - ECPv6.15.11//NONSGML v1.0//EN
CALSCALE:GREGORIAN
METHOD:PUBLISH
X-WR-CALNAME:SpacePolicyOnline.com
X-ORIGINAL-URL:https://spacepolicyonline.com
X-WR-CALDESC:Events for SpacePolicyOnline.com
REFRESH-INTERVAL;VALUE=DURATION:PT1H
X-Robots-Tag:noindex
X-PUBLISHED-TTL:PT1H
BEGIN:VTIMEZONE
TZID:America/New_York
BEGIN:DAYLIGHT
TZOFFSETFROM:-0500
TZOFFSETTO:-0400
TZNAME:EDT
DTSTART:20250309T070000
END:DAYLIGHT
BEGIN:STANDARD
TZOFFSETFROM:-0400
TZOFFSETTO:-0500
TZNAME:EST
DTSTART:20251102T060000
END:STANDARD
BEGIN:DAYLIGHT
TZOFFSETFROM:-0500
TZOFFSETTO:-0400
TZNAME:EDT
DTSTART:20260308T070000
END:DAYLIGHT
BEGIN:STANDARD
TZOFFSETFROM:-0400
TZOFFSETTO:-0500
TZNAME:EST
DTSTART:20261101T060000
END:STANDARD
BEGIN:DAYLIGHT
TZOFFSETFROM:-0500
TZOFFSETTO:-0400
TZNAME:EDT
DTSTART:20270314T070000
END:DAYLIGHT
BEGIN:STANDARD
TZOFFSETFROM:-0400
TZOFFSETTO:-0500
TZNAME:EST
DTSTART:20271107T060000
END:STANDARD
END:VTIMEZONE
BEGIN:VEVENT
DTSTART;TZID=America/New_York:20260427T153000
DTEND;TZID=America/New_York:20260427T230000
DTSTAMP:20260421T025716
CREATED:20260420T192100Z
LAST-MODIFIED:20260420T192100Z
UID:88420-1777303800-1777330800@spacepolicyonline.com
SUMMARY:HOUSE APPROPRIATIONS CJS SBCMT HRG ON FY2027 NASA BUDGET\, Apr 27\, 2026\, DC\, 3:30 pm ET
DESCRIPTION:The House Appropriations Commerce-Justice-Science subcommittee will hold a hearing on NASA’s FY2027 budget request on April 27\, 2026 at 3:30 pm ET in 2358-A Rayburn House Office Building.  The hearing will be webcast. \nNASA Administrator Jared Isaacman is the witness.
URL:https://spacepolicyonline.com/events/house-appropriations-cjs-sbcmt-hrg-on-fy2027-nasa-budget-apr-27-2026-dc-330-pm-et/
END:VEVENT
END:VCALENDAR