BEGIN:VCALENDAR
VERSION:2.0
PRODID:-//SpacePolicyOnline.com - ECPv6.15.11//NONSGML v1.0//EN
CALSCALE:GREGORIAN
METHOD:PUBLISH
X-WR-CALNAME:SpacePolicyOnline.com
X-ORIGINAL-URL:https://spacepolicyonline.com
X-WR-CALDESC:Events for SpacePolicyOnline.com
REFRESH-INTERVAL;VALUE=DURATION:PT1H
X-Robots-Tag:noindex
X-PUBLISHED-TTL:PT1H
BEGIN:VTIMEZONE
TZID:America/New_York
BEGIN:DAYLIGHT
TZOFFSETFROM:-0500
TZOFFSETTO:-0400
TZNAME:EDT
DTSTART:20180311T070000
END:DAYLIGHT
BEGIN:STANDARD
TZOFFSETFROM:-0400
TZOFFSETTO:-0500
TZNAME:EST
DTSTART:20181104T060000
END:STANDARD
BEGIN:DAYLIGHT
TZOFFSETFROM:-0500
TZOFFSETTO:-0400
TZNAME:EDT
DTSTART:20190310T070000
END:DAYLIGHT
BEGIN:STANDARD
TZOFFSETFROM:-0400
TZOFFSETTO:-0500
TZNAME:EST
DTSTART:20191103T060000
END:STANDARD
BEGIN:DAYLIGHT
TZOFFSETFROM:-0500
TZOFFSETTO:-0400
TZNAME:EDT
DTSTART:20200308T070000
END:DAYLIGHT
BEGIN:STANDARD
TZOFFSETFROM:-0400
TZOFFSETTO:-0500
TZNAME:EST
DTSTART:20201101T060000
END:STANDARD
END:VTIMEZONE
BEGIN:VEVENT
DTSTART;TZID=America/New_York:20190522T103000
DTEND;TZID=America/New_York:20190522T230000
DTSTAMP:20260422T135858
CREATED:20190517T181334Z
LAST-MODIFIED:20190517T181334Z
UID:25982-1558521000-1558566000@spacepolicyonline.com
SUMMARY:HOUSE APPROPRIATIONS FULL COMMITTEE MARK UP OF FY2020 CJS BILL\, May 22\, 2019\, DC\, 10:30 am ET
DESCRIPTION:The House Appropriations Committee will meet on May 22\, 2019 at 10:30 am ET to mark up the FY2020 Commerce-Justice-Science (CJS) bill that includes NASA (subcommittee markup was on May 17). \nThe markup is in 2359 Rayburn House Office Building and will be webcast on the committee’s website.  They will also be marking up the Interior-Environment bill during this meeting.
URL:https://spacepolicyonline.com/events/house-appropriations-full-committee-mark-up-of-fy2020-cjs-bill-may-22-2019-dc-1030-am-et/
END:VEVENT
END:VCALENDAR