BEGIN:VCALENDAR
VERSION:2.0
PRODID:-//SpacePolicyOnline.com - ECPv6.15.11//NONSGML v1.0//EN
CALSCALE:GREGORIAN
METHOD:PUBLISH
X-WR-CALNAME:SpacePolicyOnline.com
X-ORIGINAL-URL:https://spacepolicyonline.com
X-WR-CALDESC:Events for SpacePolicyOnline.com
REFRESH-INTERVAL;VALUE=DURATION:PT1H
X-Robots-Tag:noindex
X-PUBLISHED-TTL:PT1H
BEGIN:VTIMEZONE
TZID:America/New_York
BEGIN:DAYLIGHT
TZOFFSETFROM:-0500
TZOFFSETTO:-0400
TZNAME:EDT
DTSTART:20240310T070000
END:DAYLIGHT
BEGIN:STANDARD
TZOFFSETFROM:-0400
TZOFFSETTO:-0500
TZNAME:EST
DTSTART:20241103T060000
END:STANDARD
BEGIN:DAYLIGHT
TZOFFSETFROM:-0500
TZOFFSETTO:-0400
TZNAME:EDT
DTSTART:20250309T070000
END:DAYLIGHT
BEGIN:STANDARD
TZOFFSETFROM:-0400
TZOFFSETTO:-0500
TZNAME:EST
DTSTART:20251102T060000
END:STANDARD
BEGIN:DAYLIGHT
TZOFFSETFROM:-0500
TZOFFSETTO:-0400
TZNAME:EDT
DTSTART:20260308T070000
END:DAYLIGHT
BEGIN:STANDARD
TZOFFSETFROM:-0400
TZOFFSETTO:-0500
TZNAME:EST
DTSTART:20261101T060000
END:STANDARD
END:VTIMEZONE
BEGIN:VEVENT
DTSTART;TZID=America/New_York:20250612T090000
DTEND;TZID=America/New_York:20250612T230000
DTSTAMP:20260419T114559
CREATED:20250604T001050Z
LAST-MODIFIED:20250607T165316Z
UID:81602-1749718800-1749769200@spacepolicyonline.com
SUMMARY:HOUSE APPROPS FULL CMTE MARKUP FY2026 DOD BUDGET\, June 12\, 2025\, DC\, 9:00 am ET
DESCRIPTION:Update\, June 7:  The committee has changed the date and time for this markup.  It now is June 12 and will take place along with markup of the FY2026 Homeland Security bill.  The markup begins at 9:00 am ET. \n \nOriginal Entry: The House Appropriations Committee will hold full committee markup of the FY2026 DOD appropriations bill on June 13\, 2025 in 2359 Rayburn House Office Building at 12:00 pm ET.  (Subcommittee markup on June 10 at 12:00 pm ET is classified and therefore closed to the public.) \nThe committee webcasts its public meetings on YouTube.
URL:https://spacepolicyonline.com/events/house-approps-full-cmte-markup-fy2026-dod-budget-june-13-2025-dc-1200-pm-et/
END:VEVENT
END:VCALENDAR