BEGIN:VCALENDAR
VERSION:2.0
PRODID:-//SpacePolicyOnline.com - ECPv6.15.11//NONSGML v1.0//EN
CALSCALE:GREGORIAN
METHOD:PUBLISH
X-WR-CALNAME:SpacePolicyOnline.com
X-ORIGINAL-URL:https://spacepolicyonline.com
X-WR-CALDESC:Events for SpacePolicyOnline.com
REFRESH-INTERVAL;VALUE=DURATION:PT1H
X-Robots-Tag:noindex
X-PUBLISHED-TTL:PT1H
BEGIN:VTIMEZONE
TZID:America/New_York
BEGIN:DAYLIGHT
TZOFFSETFROM:-0500
TZOFFSETTO:-0400
TZNAME:EDT
DTSTART:20250309T070000
END:DAYLIGHT
BEGIN:STANDARD
TZOFFSETFROM:-0400
TZOFFSETTO:-0500
TZNAME:EST
DTSTART:20251102T060000
END:STANDARD
BEGIN:DAYLIGHT
TZOFFSETFROM:-0500
TZOFFSETTO:-0400
TZNAME:EDT
DTSTART:20260308T070000
END:DAYLIGHT
BEGIN:STANDARD
TZOFFSETFROM:-0400
TZOFFSETTO:-0500
TZNAME:EST
DTSTART:20261101T060000
END:STANDARD
BEGIN:DAYLIGHT
TZOFFSETFROM:-0500
TZOFFSETTO:-0400
TZNAME:EDT
DTSTART:20270314T070000
END:DAYLIGHT
BEGIN:STANDARD
TZOFFSETFROM:-0400
TZOFFSETTO:-0500
TZNAME:EST
DTSTART:20271107T060000
END:STANDARD
END:VTIMEZONE
BEGIN:VEVENT
DTSTART;TZID=America/New_York:20260611T090000
DTEND;TZID=America/New_York:20260611T230000
DTSTAMP:20260419T181147
CREATED:20260413T221948Z
LAST-MODIFIED:20260413T221948Z
UID:88276-1781168400-1781218800@spacepolicyonline.com
SUMMARY:HOUSE APPROPS SBCMTE MARKUP FY2027 DEFENSE BILL\, June 11\, 2026\, DC\, 9:00 am ET
DESCRIPTION:As of April 13\, the House Appropriations Committee plans to mark up the FY2027 Defense bill on June 11\, 2026 at 9:00 am ET.  The subcommittee markup is closed. \nFull committee mark up of the Defense bill is planned for June 24 at 11:00 am ET. \nTHE SCHEDULE IS SUBJECT TO CHANGE. Check the committee’s website for updates.
URL:https://spacepolicyonline.com/events/house-approps-sbcmte-markup-fy2027-defense-bill-june-11-2026-dc-900-am-et/
END:VEVENT
END:VCALENDAR