BEGIN:VCALENDAR
VERSION:2.0
PRODID:-//SpacePolicyOnline.com - ECPv6.15.11//NONSGML v1.0//EN
CALSCALE:GREGORIAN
METHOD:PUBLISH
X-WR-CALNAME:SpacePolicyOnline.com
X-ORIGINAL-URL:https://spacepolicyonline.com
X-WR-CALDESC:Events for SpacePolicyOnline.com
REFRESH-INTERVAL;VALUE=DURATION:PT1H
X-Robots-Tag:noindex
X-PUBLISHED-TTL:PT1H
BEGIN:VTIMEZONE
TZID:America/New_York
BEGIN:DAYLIGHT
TZOFFSETFROM:-0500
TZOFFSETTO:-0400
TZNAME:EDT
DTSTART:20210314T070000
END:DAYLIGHT
BEGIN:STANDARD
TZOFFSETFROM:-0400
TZOFFSETTO:-0500
TZNAME:EST
DTSTART:20211107T060000
END:STANDARD
BEGIN:DAYLIGHT
TZOFFSETFROM:-0500
TZOFFSETTO:-0400
TZNAME:EDT
DTSTART:20220313T070000
END:DAYLIGHT
BEGIN:STANDARD
TZOFFSETFROM:-0400
TZOFFSETTO:-0500
TZNAME:EST
DTSTART:20221106T060000
END:STANDARD
BEGIN:DAYLIGHT
TZOFFSETFROM:-0500
TZOFFSETTO:-0400
TZNAME:EDT
DTSTART:20230312T070000
END:DAYLIGHT
BEGIN:STANDARD
TZOFFSETFROM:-0400
TZOFFSETTO:-0500
TZNAME:EST
DTSTART:20231105T060000
END:STANDARD
END:VTIMEZONE
BEGIN:VEVENT
DTSTART;TZID=America/New_York:20220110T140000
DTEND;TZID=America/New_York:20220110T230000
DTSTAMP:20260420T061904
CREATED:20220109T190000Z
LAST-MODIFIED:20220110T224146Z
UID:49648-1641823200-1641855600@spacepolicyonline.com
SUMMARY:HOUSE RULES COMMITTEE CONSIDERS NASA ENHANCED USE LEASING EXTENSION ACT\, Jan 10\, 2022\, virtual\, 2:00 pm ET
DESCRIPTION:Update\, January 10: The committee postponed consideration of this bill.  No explanation is provided on its website. \nOriginal Entry: The House Rules Committee will consider three bills\, including H.R. 5746\, the NASA Enhanced Use Leasing Extension Act\, on January 10\, 2022 beginning at 2:00 pm ET. It will air on the committee’s website. \nMore information is on the committee’s website.
URL:https://spacepolicyonline.com/events/house-rules-committee-considers-nasa-enhanced-use-leasing-extension-act-jan-10-2022-virtual-200-pm-et/
END:VEVENT
END:VCALENDAR