BEGIN:VCALENDAR
VERSION:2.0
PRODID:-//SpacePolicyOnline.com - ECPv6.15.11//NONSGML v1.0//EN
CALSCALE:GREGORIAN
METHOD:PUBLISH
X-WR-CALNAME:SpacePolicyOnline.com
X-ORIGINAL-URL:https://spacepolicyonline.com
X-WR-CALDESC:Events for SpacePolicyOnline.com
REFRESH-INTERVAL;VALUE=DURATION:PT1H
X-Robots-Tag:noindex
X-PUBLISHED-TTL:PT1H
BEGIN:VTIMEZONE
TZID:America/New_York
BEGIN:DAYLIGHT
TZOFFSETFROM:-0500
TZOFFSETTO:-0400
TZNAME:EDT
DTSTART:20220313T070000
END:DAYLIGHT
BEGIN:STANDARD
TZOFFSETFROM:-0400
TZOFFSETTO:-0500
TZNAME:EST
DTSTART:20221106T060000
END:STANDARD
BEGIN:DAYLIGHT
TZOFFSETFROM:-0500
TZOFFSETTO:-0400
TZNAME:EDT
DTSTART:20230312T070000
END:DAYLIGHT
BEGIN:STANDARD
TZOFFSETFROM:-0400
TZOFFSETTO:-0500
TZNAME:EST
DTSTART:20231105T060000
END:STANDARD
BEGIN:DAYLIGHT
TZOFFSETFROM:-0500
TZOFFSETTO:-0400
TZNAME:EDT
DTSTART:20240310T070000
END:DAYLIGHT
BEGIN:STANDARD
TZOFFSETFROM:-0400
TZOFFSETTO:-0500
TZNAME:EST
DTSTART:20241103T060000
END:STANDARD
END:VTIMEZONE
BEGIN:VEVENT
DTSTART;TZID=America/New_York:20230530T150000
DTEND;TZID=America/New_York:20230530T230000
DTSTAMP:20260425T193845
CREATED:20230530T143157Z
LAST-MODIFIED:20230530T143517Z
UID:62505-1685458800-1685487600@spacepolicyonline.com
SUMMARY:HOUSE RULES COMMITTEE MEETS ON FISCAL RESPONSIBILTY ACT\, May 30\, 2023\, DC\, 3:00 pm ET
DESCRIPTION:The House Rules Committee will meet on May 30\, 2023 at 3:00 pm ET in H-313 Capitol to formulate the rule to accompany H.R. 3746\, the Fiscal Responsibility Act of 2023. \nH.R. 3746 would suspend the debt limit until January 1\, 2025 (after the presidential and congressional elections) and limit federal spending in FY2024 to FY2023 levels with only a 1 percent increase allowed for FY2025.  Defense and veterans medical care spending is exempted from the limits\, so the budget cuts needed to meet the required spending threshold will fall more heavily on non-defense agencies like NASA\, NOAA and the FAA. \nThe Rules Committee will consider amendments to the bill and write the rule for House consideration of the legislation\, but could also prevent the bill from being considered by the House at all. The committee has 9 Republicans and 4 Democrats. Some of the Republican members are strongly opposed to the bill because the spending cuts are not deep enough. \nIf it does clear committee\, it is expected to be voted on by the full House tomorrow (May 31).
URL:https://spacepolicyonline.com/events/house-rules-committee-meets-on-fiscal-responsibilty-act-may-30-2023-dc-300-pm-et/
END:VEVENT
END:VCALENDAR