BEGIN:VCALENDAR
VERSION:2.0
PRODID:-//SpacePolicyOnline.com - ECPv6.15.11//NONSGML v1.0//EN
CALSCALE:GREGORIAN
METHOD:PUBLISH
X-WR-CALNAME:SpacePolicyOnline.com
X-ORIGINAL-URL:https://spacepolicyonline.com
X-WR-CALDESC:Events for SpacePolicyOnline.com
REFRESH-INTERVAL;VALUE=DURATION:PT1H
X-Robots-Tag:noindex
X-PUBLISHED-TTL:PT1H
BEGIN:VTIMEZONE
TZID:America/New_York
BEGIN:DAYLIGHT
TZOFFSETFROM:-0500
TZOFFSETTO:-0400
TZNAME:EDT
DTSTART:20180311T070000
END:DAYLIGHT
BEGIN:STANDARD
TZOFFSETFROM:-0400
TZOFFSETTO:-0500
TZNAME:EST
DTSTART:20181104T060000
END:STANDARD
BEGIN:DAYLIGHT
TZOFFSETFROM:-0500
TZOFFSETTO:-0400
TZNAME:EDT
DTSTART:20190310T070000
END:DAYLIGHT
BEGIN:STANDARD
TZOFFSETFROM:-0400
TZOFFSETTO:-0500
TZNAME:EST
DTSTART:20191103T060000
END:STANDARD
BEGIN:DAYLIGHT
TZOFFSETFROM:-0500
TZOFFSETTO:-0400
TZNAME:EDT
DTSTART:20200308T070000
END:DAYLIGHT
BEGIN:STANDARD
TZOFFSETFROM:-0400
TZOFFSETTO:-0500
TZNAME:EST
DTSTART:20201101T060000
END:STANDARD
END:VTIMEZONE
BEGIN:VEVENT
DTSTART;TZID=America/New_York:20190516T100000
DTEND;TZID=America/New_York:20190516T230000
DTSTAMP:20260422T163025
CREATED:20190512T163130Z
LAST-MODIFIED:20190512T163155Z
UID:25889-1558000800-1558047600@spacepolicyonline.com
SUMMARY:HOUSE SS&T HEARING ON THE EVENT HORIZON TELESCOPE: THE BLACK HOLE SEEN ROUND THE WORLD\, May 16\, 2019\, DC\, 10:00 am ET (webcast)
DESCRIPTION:The House Science\, Space\, and Technology Committee will hold a hearing on May 16\, 2019 at 10:00 am ET in 2318 Rayburn House Office Building on “Event Horizon Telescope: The Black Hole Seen Round the World.”  The committee webcasts its hearings on its website. \nScheduled witnesses are: \nDr. France Córdova\, Director\, National Science Foundation \nDr. Shepherd Doeleman\, Director\, Event Horizon Telescope; Center for Astrophysics | Harvard and Smithsonian \nDr. Colin Lonsdale\, Director\, MIT Haystack Observatory \nDr. Katherine Bouman\, Postdoctoral Fellow\, Harvard-Smithsonian Center for Astrophysics
URL:https://spacepolicyonline.com/events/house-sst-hearing-on-the-event-horizon-telescope-the-black-hole-seen-round-the-world-may-16-2019-dc-1000-am-et-webcast/
END:VEVENT
END:VCALENDAR