BEGIN:VCALENDAR
VERSION:2.0
PRODID:-//SpacePolicyOnline.com - ECPv6.15.11//NONSGML v1.0//EN
CALSCALE:GREGORIAN
METHOD:PUBLISH
X-WR-CALNAME:SpacePolicyOnline.com
X-ORIGINAL-URL:https://spacepolicyonline.com
X-WR-CALDESC:Events for SpacePolicyOnline.com
REFRESH-INTERVAL;VALUE=DURATION:PT1H
X-Robots-Tag:noindex
X-PUBLISHED-TTL:PT1H
BEGIN:VTIMEZONE
TZID:America/New_York
BEGIN:DAYLIGHT
TZOFFSETFROM:-0500
TZOFFSETTO:-0400
TZNAME:EDT
DTSTART:20200308T070000
END:DAYLIGHT
BEGIN:STANDARD
TZOFFSETFROM:-0400
TZOFFSETTO:-0500
TZNAME:EST
DTSTART:20201101T060000
END:STANDARD
BEGIN:DAYLIGHT
TZOFFSETFROM:-0500
TZOFFSETTO:-0400
TZNAME:EDT
DTSTART:20210314T070000
END:DAYLIGHT
BEGIN:STANDARD
TZOFFSETFROM:-0400
TZOFFSETTO:-0500
TZNAME:EST
DTSTART:20211107T060000
END:STANDARD
BEGIN:DAYLIGHT
TZOFFSETFROM:-0500
TZOFFSETTO:-0400
TZNAME:EDT
DTSTART:20220313T070000
END:DAYLIGHT
BEGIN:STANDARD
TZOFFSETFROM:-0400
TZOFFSETTO:-0500
TZNAME:EST
DTSTART:20221106T060000
END:STANDARD
END:VTIMEZONE
BEGIN:VEVENT
DTSTART;TZID=America/New_York:20210623T100000
DTEND;TZID=America/New_York:20210623T230000
DTSTAMP:20260419T193237
CREATED:20210618T215308Z
LAST-MODIFIED:20210618T215308Z
UID:44819-1624442400-1624489200@spacepolicyonline.com
SUMMARY:HOUSE SS&T HRG ON NASA'S FY2022 BUDGET REQUEST\, June 23\, 2021\, virtual\, 10:00 am ET
DESCRIPTION:The House Science\, Space\, and Technology Committee will hold a hearing on NASA’s FY2022 budget request on June 23\, 2021 at 10:00 am ET. The hearing will take place virtually and air on the committee’s website. \nThe witness is NASA Administrator Bill Nelson. \n 
URL:https://spacepolicyonline.com/events/house-sst-hrg-on-nasas-fy2022-budget-request-june-23-2021-virtual-1000-am-et/
END:VEVENT
END:VCALENDAR