BEGIN:VCALENDAR
VERSION:2.0
PRODID:-//SpacePolicyOnline.com - ECPv6.15.11//NONSGML v1.0//EN
CALSCALE:GREGORIAN
METHOD:PUBLISH
X-WR-CALNAME:SpacePolicyOnline.com
X-ORIGINAL-URL:https://spacepolicyonline.com
X-WR-CALDESC:Events for SpacePolicyOnline.com
REFRESH-INTERVAL;VALUE=DURATION:PT1H
X-Robots-Tag:noindex
X-PUBLISHED-TTL:PT1H
BEGIN:VTIMEZONE
TZID:America/New_York
BEGIN:DAYLIGHT
TZOFFSETFROM:-0500
TZOFFSETTO:-0400
TZNAME:EDT
DTSTART:20220313T070000
END:DAYLIGHT
BEGIN:STANDARD
TZOFFSETFROM:-0400
TZOFFSETTO:-0500
TZNAME:EST
DTSTART:20221106T060000
END:STANDARD
BEGIN:DAYLIGHT
TZOFFSETFROM:-0500
TZOFFSETTO:-0400
TZNAME:EDT
DTSTART:20230312T070000
END:DAYLIGHT
BEGIN:STANDARD
TZOFFSETFROM:-0400
TZOFFSETTO:-0500
TZNAME:EST
DTSTART:20231105T060000
END:STANDARD
BEGIN:DAYLIGHT
TZOFFSETFROM:-0500
TZOFFSETTO:-0400
TZNAME:EDT
DTSTART:20240310T070000
END:DAYLIGHT
BEGIN:STANDARD
TZOFFSETFROM:-0400
TZOFFSETTO:-0500
TZNAME:EST
DTSTART:20241103T060000
END:STANDARD
END:VTIMEZONE
BEGIN:VEVENT
DTSTART;TZID=America/New_York:20230713T100000
DTEND;TZID=America/New_York:20230713T230000
DTSTAMP:20260421T075109
CREATED:20230706T200830Z
LAST-MODIFIED:20230706T200830Z
UID:63300-1689242400-1689289200@spacepolicyonline.com
SUMMARY:HOUSE SS&T HRG ON U.S. LEADERSHIP IN COMMERCIAL SPACE\, July 13\, 2023\, DC\, 10:00 am ET
DESCRIPTION:The House Science\, Space\, and Technology Committee will hold a hearing on July 13\, 2023 at 10:00 am ET in 2318 Rayburn House Office Building on “Continuing U.S. Leadership in Commercial Space At Home and Abroad.” \nThe hearing will be webcast on the committee’s website. \nWitnesses as of July 6 are: \n\nMs. Karina Drees\, President\, Commercial Spaceflight Federation\nMr. Jim Dunstan\, General Counsel\, TechFreedom\nMs. Caryn Schenewerk\, President\, CS Consulting\, LLC
URL:https://spacepolicyonline.com/events/house-sst-hrg-on-u-s-leadership-in-commercial-space-july-13-2023-dc-1000-am-et/
END:VEVENT
END:VCALENDAR