BEGIN:VCALENDAR
VERSION:2.0
PRODID:-//SpacePolicyOnline.com - ECPv6.15.11//NONSGML v1.0//EN
CALSCALE:GREGORIAN
METHOD:PUBLISH
X-WR-CALNAME:SpacePolicyOnline.com
X-ORIGINAL-URL:https://spacepolicyonline.com
X-WR-CALDESC:Events for SpacePolicyOnline.com
REFRESH-INTERVAL;VALUE=DURATION:PT1H
X-Robots-Tag:noindex
X-PUBLISHED-TTL:PT1H
BEGIN:VTIMEZONE
TZID:America/New_York
BEGIN:DAYLIGHT
TZOFFSETFROM:-0500
TZOFFSETTO:-0400
TZNAME:EDT
DTSTART:20180311T070000
END:DAYLIGHT
BEGIN:STANDARD
TZOFFSETFROM:-0400
TZOFFSETTO:-0500
TZNAME:EST
DTSTART:20181104T060000
END:STANDARD
BEGIN:DAYLIGHT
TZOFFSETFROM:-0500
TZOFFSETTO:-0400
TZNAME:EDT
DTSTART:20190310T070000
END:DAYLIGHT
BEGIN:STANDARD
TZOFFSETFROM:-0400
TZOFFSETTO:-0500
TZNAME:EST
DTSTART:20191103T060000
END:STANDARD
BEGIN:DAYLIGHT
TZOFFSETFROM:-0500
TZOFFSETTO:-0400
TZNAME:EDT
DTSTART:20200308T070000
END:DAYLIGHT
BEGIN:STANDARD
TZOFFSETFROM:-0400
TZOFFSETTO:-0500
TZNAME:EST
DTSTART:20201101T060000
END:STANDARD
END:VTIMEZONE
BEGIN:VEVENT
DTSTART;TZID=America/New_York:20190710T100000
DTEND;TZID=America/New_York:20190710T230000
DTSTAMP:20260425T110511
CREATED:20190627T184251Z
LAST-MODIFIED:20190708T204500Z
UID:27032-1562752800-1562799600@spacepolicyonline.com
SUMMARY:HOUSE SS&T SBCMTE HEARING ON NASA'S PLANS FOR ISS AND FUTURE ACTIVITIES IN LEO\, July 10\, 2019\, DC\, 10:00 am ET (webcast)
DESCRIPTION:The Space and Aeronautics Subcommittee of the House Science\, Space\, and Technology Committee will hold a hearing on July 10\, 2019 at 10:00 am ET in 2318 Rayburn House Office Building on “A Review of NASA’s Plans for the International Space Station and Future Activities in Low Earth Orbit.” \nThe committee webcasts its hearings on its website. \nWitnesses are: \nMr. William H. Gerstenmaier\, Associate Administrator\, Human Exploration and Operations Mission Directorate\, National Aeronautics and Space Administration \nThe Honorable Paul K. Martin\, Inspector General\, National Aeronautics and Space Administration \nProfessor Joanne Irene Gabrynowicz\, Professor Emerita University of Mississippi\, Editor-in-Chief Emerita\, Journal of Space Law \nMr. Eric W. Stallmer\, President\, Commercial Spaceflight Federation
URL:https://spacepolicyonline.com/events/house-sst-sbcmte-hearing-on-nasas-plans-for-iss-and-future-activities-in-leo-july-10-2019-dc-1000-am-et-webcast/
END:VEVENT
END:VCALENDAR