BEGIN:VCALENDAR
VERSION:2.0
PRODID:-//SpacePolicyOnline.com - ECPv6.15.11//NONSGML v1.0//EN
CALSCALE:GREGORIAN
METHOD:PUBLISH
X-WR-CALNAME:SpacePolicyOnline.com
X-ORIGINAL-URL:https://spacepolicyonline.com
X-WR-CALDESC:Events for SpacePolicyOnline.com
REFRESH-INTERVAL;VALUE=DURATION:PT1H
X-Robots-Tag:noindex
X-PUBLISHED-TTL:PT1H
BEGIN:VTIMEZONE
TZID:America/New_York
BEGIN:DAYLIGHT
TZOFFSETFROM:-0500
TZOFFSETTO:-0400
TZNAME:EDT
DTSTART:20200308T070000
END:DAYLIGHT
BEGIN:STANDARD
TZOFFSETFROM:-0400
TZOFFSETTO:-0500
TZNAME:EST
DTSTART:20201101T060000
END:STANDARD
BEGIN:DAYLIGHT
TZOFFSETFROM:-0500
TZOFFSETTO:-0400
TZNAME:EDT
DTSTART:20210314T070000
END:DAYLIGHT
BEGIN:STANDARD
TZOFFSETFROM:-0400
TZOFFSETTO:-0500
TZNAME:EST
DTSTART:20211107T060000
END:STANDARD
BEGIN:DAYLIGHT
TZOFFSETFROM:-0500
TZOFFSETTO:-0400
TZNAME:EDT
DTSTART:20220313T070000
END:DAYLIGHT
BEGIN:STANDARD
TZOFFSETFROM:-0400
TZOFFSETTO:-0500
TZNAME:EST
DTSTART:20221106T060000
END:STANDARD
END:VTIMEZONE
BEGIN:VEVENT
DTSTART;TZID=America/New_York:20210616T140000
DTEND;TZID=America/New_York:20210616T230000
DTSTAMP:20260420T010214
CREATED:20210610T180624Z
LAST-MODIFIED:20210616T030053Z
UID:44624-1623852000-1623884400@spacepolicyonline.com
SUMMARY:HOUSE T&I SBCMTE HRG ON STARSHIPS AND STRIPES FOREVER: FAA'S ROLE IN FUTURE OF SPACEFLIGHT\, June 16\, 2021\, DC/virtual\, 2:00 pm ET
DESCRIPTION:The Aviation Subcommittee of the House Transportation and Infrastructure Committee will hold a hearing on June 16\, 2021 at 2:00 pm ET in 2167 Rayburn House Office Building and virtually on “Starships and Stripes Forever: An Examination of the FAA’s Role in Future Spaceflight.” The hearing will be webcast on the committee’s website. \nWitnesses are: \nPanel 1 \n\nWayne Monteith\, FAA Associate Administrator for Commercial Space Transportation\nHeather Krause\, Director\, Physical Infrastructure\, GAO\n\nPanel 2 \n\nTory Bruno\, President and CEO\, United Launch Alliance\nFrank DiBello\, President and CEO\, Space Florida\nCaptain Joe DePete\, President\, Air Line Pilots Association\nMike Moses\, President of Space Missions and Safety\, Virgin Galactic
URL:https://spacepolicyonline.com/events/house-ti-sbcmte-hrg-on-starships-and-stripes-forever-faas-role-in-future-of-spaceflight-june-16-2021-dc-virtual-200-pm-et/
END:VEVENT
END:VCALENDAR