BEGIN:VCALENDAR
VERSION:2.0
PRODID:-//SpacePolicyOnline.com - ECPv6.15.11//NONSGML v1.0//EN
CALSCALE:GREGORIAN
METHOD:PUBLISH
X-WR-CALNAME:SpacePolicyOnline.com
X-ORIGINAL-URL:https://spacepolicyonline.com
X-WR-CALDESC:Events for SpacePolicyOnline.com
REFRESH-INTERVAL;VALUE=DURATION:PT1H
X-Robots-Tag:noindex
X-PUBLISHED-TTL:PT1H
BEGIN:VTIMEZONE
TZID:America/New_York
BEGIN:DAYLIGHT
TZOFFSETFROM:-0500
TZOFFSETTO:-0400
TZNAME:EDT
DTSTART:20250309T070000
END:DAYLIGHT
BEGIN:STANDARD
TZOFFSETFROM:-0400
TZOFFSETTO:-0500
TZNAME:EST
DTSTART:20251102T060000
END:STANDARD
BEGIN:DAYLIGHT
TZOFFSETFROM:-0500
TZOFFSETTO:-0400
TZNAME:EDT
DTSTART:20260308T070000
END:DAYLIGHT
BEGIN:STANDARD
TZOFFSETFROM:-0400
TZOFFSETTO:-0500
TZNAME:EST
DTSTART:20261101T060000
END:STANDARD
BEGIN:DAYLIGHT
TZOFFSETFROM:-0500
TZOFFSETTO:-0400
TZNAME:EDT
DTSTART:20270314T070000
END:DAYLIGHT
BEGIN:STANDARD
TZOFFSETFROM:-0400
TZOFFSETTO:-0500
TZNAME:EST
DTSTART:20271107T060000
END:STANDARD
END:VTIMEZONE
BEGIN:VEVENT
DTSTART;TZID=America/New_York:20260113T100000
DTEND;TZID=America/New_York:20260113T230000
DTSTAMP:20260419T193406
CREATED:20260111T155831Z
LAST-MODIFIED:20260112T223807Z
UID:86086-1768298400-1768345200@spacepolicyonline.com
SUMMARY:HSS&T SBCMT HRG ON WEATHER SATELLITES AND NATIONAL SECURITY\, Jan 13\, 2026\, DC\, 10:00 am ET
DESCRIPTION:The Subcommittee on Environment of the House Science\, Space\, and Technology Committee will hold a hearing on January 13\, 2026 at 10:00 am ET in 2318 Rayburn House Office Building. The hearing will be webcast on the committee’s website. \nThe topic is “From Orbit to Operations: How Weather Satellites Support the National Security Mission.” \n \nNote: the committee later corrected the spelling of Mundhenk’s first name. It is Bryan.
URL:https://spacepolicyonline.com/events/hsst-sbcmt-hrg-on-weather-satellites-and-national-security-jan-13-2026-dc-1000-am-et/
END:VEVENT
END:VCALENDAR