BEGIN:VCALENDAR
VERSION:2.0
PRODID:-//SpacePolicyOnline.com - ECPv6.15.11//NONSGML v1.0//EN
CALSCALE:GREGORIAN
METHOD:PUBLISH
X-WR-CALNAME:SpacePolicyOnline.com
X-ORIGINAL-URL:https://spacepolicyonline.com
X-WR-CALDESC:Events for SpacePolicyOnline.com
REFRESH-INTERVAL;VALUE=DURATION:PT1H
X-Robots-Tag:noindex
X-PUBLISHED-TTL:PT1H
BEGIN:VTIMEZONE
TZID:America/New_York
BEGIN:DAYLIGHT
TZOFFSETFROM:-0500
TZOFFSETTO:-0400
TZNAME:EDT
DTSTART:20230312T070000
END:DAYLIGHT
BEGIN:STANDARD
TZOFFSETFROM:-0400
TZOFFSETTO:-0500
TZNAME:EST
DTSTART:20231105T060000
END:STANDARD
BEGIN:DAYLIGHT
TZOFFSETFROM:-0500
TZOFFSETTO:-0400
TZNAME:EDT
DTSTART:20240310T070000
END:DAYLIGHT
BEGIN:STANDARD
TZOFFSETFROM:-0400
TZOFFSETTO:-0500
TZNAME:EST
DTSTART:20241103T060000
END:STANDARD
BEGIN:DAYLIGHT
TZOFFSETFROM:-0500
TZOFFSETTO:-0400
TZNAME:EDT
DTSTART:20250309T070000
END:DAYLIGHT
BEGIN:STANDARD
TZOFFSETFROM:-0400
TZOFFSETTO:-0500
TZNAME:EST
DTSTART:20251102T060000
END:STANDARD
END:VTIMEZONE
BEGIN:VEVENT
DTSTART;TZID=America/New_York:20240123T070000
DTEND;TZID=America/New_York:20240124T230000
DTSTAMP:20260419T164101
CREATED:20231203T155423Z
LAST-MODIFIED:20240121T160802Z
UID:66973-1705993200-1706137200@spacepolicyonline.com
SUMMARY:HUMAN RESEARCH PROGRAM FOR CIVILIANS IN SPACEFLIGHT AND SPACE HABITATION (IAASS)\, Jan 23-24\, 2024\, Tulsa\, OK/virtual
DESCRIPTION:The International Association for the Advancement of Space Safety (IAASS) in cooperation with the Aerospace Corporation\, Global Spaceport Alliance\, and Oklahoma State University will hold a Workshop on the Human Research Program for Civilians in Spaceflight and Space Habitation at Oklahoma State University in Tulsa\, OK from January 23-24\, 2024. \nMore information including the agenda is on the event’s website.  It is a hybrid event.
URL:https://spacepolicyonline.com/events/human-research-program-for-civilians-in-spaceflight-and-space-habitation-iaass-jan-23-24-2024-tulsa-ok/
END:VEVENT
END:VCALENDAR