BEGIN:VCALENDAR
VERSION:2.0
PRODID:-//SpacePolicyOnline.com - ECPv6.15.11//NONSGML v1.0//EN
CALSCALE:GREGORIAN
METHOD:PUBLISH
X-WR-CALNAME:SpacePolicyOnline.com
X-ORIGINAL-URL:https://spacepolicyonline.com
X-WR-CALDESC:Events for SpacePolicyOnline.com
REFRESH-INTERVAL;VALUE=DURATION:PT1H
X-Robots-Tag:noindex
X-PUBLISHED-TTL:PT1H
BEGIN:VTIMEZONE
TZID:America/New_York
BEGIN:DAYLIGHT
TZOFFSETFROM:-0500
TZOFFSETTO:-0400
TZNAME:EDT
DTSTART:20250309T070000
END:DAYLIGHT
BEGIN:STANDARD
TZOFFSETFROM:-0400
TZOFFSETTO:-0500
TZNAME:EST
DTSTART:20251102T060000
END:STANDARD
BEGIN:DAYLIGHT
TZOFFSETFROM:-0500
TZOFFSETTO:-0400
TZNAME:EDT
DTSTART:20260308T070000
END:DAYLIGHT
BEGIN:STANDARD
TZOFFSETFROM:-0400
TZOFFSETTO:-0500
TZNAME:EST
DTSTART:20261101T060000
END:STANDARD
BEGIN:DAYLIGHT
TZOFFSETFROM:-0500
TZOFFSETTO:-0400
TZNAME:EDT
DTSTART:20270314T070000
END:DAYLIGHT
BEGIN:STANDARD
TZOFFSETFROM:-0400
TZOFFSETTO:-0500
TZNAME:EST
DTSTART:20271107T060000
END:STANDARD
END:VTIMEZONE
BEGIN:VEVENT
DTSTART;TZID=America/New_York:20260601T073000
DTEND;TZID=America/New_York:20260606T230000
DTSTAMP:20260419T183259
CREATED:20251206T205403Z
LAST-MODIFIED:20251206T205403Z
UID:85437-1780299000-1780786800@spacepolicyonline.com
SUMMARY:IAA 2nd LATIN AMERICAN CONFERENCE ON SPACE & SOCIETY\, June 1-6\, 2026\, Salta\, Argentina
DESCRIPTION:The International Academy of Astronautics (IAA) will hold the 2nd Latin American Conference on Space & Society in Salta\, Argentina from June 1-6\, 2026. \nMore information is on the event’s website.
URL:https://spacepolicyonline.com/events/iaa-2nd-latin-american-conference-on-space-society-june-1-6-2026-salta-argentina/
END:VEVENT
END:VCALENDAR