BEGIN:VCALENDAR
VERSION:2.0
PRODID:-//SpacePolicyOnline.com - ECPv6.15.11//NONSGML v1.0//EN
CALSCALE:GREGORIAN
METHOD:PUBLISH
X-WR-CALNAME:SpacePolicyOnline.com
X-ORIGINAL-URL:https://spacepolicyonline.com
X-WR-CALDESC:Events for SpacePolicyOnline.com
REFRESH-INTERVAL;VALUE=DURATION:PT1H
X-Robots-Tag:noindex
X-PUBLISHED-TTL:PT1H
BEGIN:VTIMEZONE
TZID:America/New_York
BEGIN:DAYLIGHT
TZOFFSETFROM:-0500
TZOFFSETTO:-0400
TZNAME:EDT
DTSTART:20220313T070000
END:DAYLIGHT
BEGIN:STANDARD
TZOFFSETFROM:-0400
TZOFFSETTO:-0500
TZNAME:EST
DTSTART:20221106T060000
END:STANDARD
BEGIN:DAYLIGHT
TZOFFSETFROM:-0500
TZOFFSETTO:-0400
TZNAME:EDT
DTSTART:20230312T070000
END:DAYLIGHT
BEGIN:STANDARD
TZOFFSETFROM:-0400
TZOFFSETTO:-0500
TZNAME:EST
DTSTART:20231105T060000
END:STANDARD
BEGIN:DAYLIGHT
TZOFFSETFROM:-0500
TZOFFSETTO:-0400
TZNAME:EDT
DTSTART:20240310T070000
END:DAYLIGHT
BEGIN:STANDARD
TZOFFSETFROM:-0400
TZOFFSETTO:-0500
TZNAME:EST
DTSTART:20241103T060000
END:STANDARD
END:VTIMEZONE
BEGIN:VEVENT
DTSTART;TZID=America/New_York:20230523T073000
DTEND;TZID=America/New_York:20230525T230000
DTSTAMP:20260425T181737
CREATED:20221217T172630Z
LAST-MODIFIED:20230522T191904Z
UID:58756-1684827000-1685055600@spacepolicyonline.com
SUMMARY:IAF GLOBAL SPACE CONFERENCE ON CLIMATE CHANGE (GLOC)\, May 23-25\, 2023\, Oslo\, Norway (livestreamed)
DESCRIPTION:The International Astronautical Federation (IAF) and the Norwegian Space Agency will hold the Global Space Conference on Climate Change (GLOC) in Oslo\, Norway\, from May 23-25\, 2023. \nMore information is on the IAF website. \nThe IAF says that “plenaries\, GNFs as well as the opening and closing ceremonies” will be livestreamed. \n\nWe are pleased to announce that #GLOC2023 will be live-streamed for free! You will be able to watch the conference plenaries\, GNFs as well as the opening and closing ceremonies from the comfort of your home! To access the webcast\, click here: https://t.co/mxXUtKnH6u pic.twitter.com/agrocuFFnU \n— IAF (@iafastro) May 19\, 2023 \n \n\nThe full #GLOC2023 programme is now available to view online in the app and final programme! Download the app here: https://t.co/VFu01FJlTL or simply scan the barcode below. \nView the final programme here: https://t.co/RcEXeM2h8K \nSee you next week in Oslo! pic.twitter.com/BrY7SCnbHC \n— IAF (@iafastro) May 19\, 2023
URL:https://spacepolicyonline.com/events/iaf-global-space-conference-on-climate-change-gloc-may-23-25-2023-oslo-norway/
END:VEVENT
END:VCALENDAR