BEGIN:VCALENDAR
VERSION:2.0
PRODID:-//SpacePolicyOnline.com - ECPv6.15.11//NONSGML v1.0//EN
CALSCALE:GREGORIAN
METHOD:PUBLISH
X-WR-CALNAME:SpacePolicyOnline.com
X-ORIGINAL-URL:https://spacepolicyonline.com
X-WR-CALDESC:Events for SpacePolicyOnline.com
REFRESH-INTERVAL;VALUE=DURATION:PT1H
X-Robots-Tag:noindex
X-PUBLISHED-TTL:PT1H
BEGIN:VTIMEZONE
TZID:America/New_York
BEGIN:DAYLIGHT
TZOFFSETFROM:-0500
TZOFFSETTO:-0400
TZNAME:EDT
DTSTART:20210314T070000
END:DAYLIGHT
BEGIN:STANDARD
TZOFFSETFROM:-0400
TZOFFSETTO:-0500
TZNAME:EST
DTSTART:20211107T060000
END:STANDARD
BEGIN:DAYLIGHT
TZOFFSETFROM:-0500
TZOFFSETTO:-0400
TZNAME:EDT
DTSTART:20220313T070000
END:DAYLIGHT
BEGIN:STANDARD
TZOFFSETFROM:-0400
TZOFFSETTO:-0500
TZNAME:EST
DTSTART:20221106T060000
END:STANDARD
BEGIN:DAYLIGHT
TZOFFSETFROM:-0500
TZOFFSETTO:-0400
TZNAME:EDT
DTSTART:20230312T070000
END:DAYLIGHT
BEGIN:STANDARD
TZOFFSETFROM:-0400
TZOFFSETTO:-0500
TZNAME:EST
DTSTART:20231105T060000
END:STANDARD
END:VTIMEZONE
BEGIN:VEVENT
DTSTART;TZID=America/New_York:20220112T130000
DTEND;TZID=America/New_York:20220112T230000
DTSTAMP:20260420T044958
CREATED:20220110T134924Z
LAST-MODIFIED:20220110T134924Z
UID:49686-1641992400-1642028400@spacepolicyonline.com
SUMMARY:ICECUBE: A PATHFINDER OF SUBMILLIMETER-WAVE REMOTE SENSING ON A CUBESAT\, Jan 12\, 2022\, virtual\, 1:00-2:00 pm ET
DESCRIPTION:NASA Small Spacecraft Systems Virtual Institute’s will hold its next webinar on January 12\, 2022 from 10:00-11:00 am Pacific Time (1:00-2:00 pm Eastern). \nDr. Dong Wu of Goddard Space Flight Center will discuss the IceCube cubesat program: “IceCube: A Pathfinder of Submillimeter-Wave Remote Sensing on a Cubesat.” \nMore information is on the event’s website.
URL:https://spacepolicyonline.com/events/icecube-a-pathfinder-of-submillimeter-wave-remote-sensing-on-a-cubesat-jan-12-2022-virtual-100-200-pm-et/
END:VEVENT
END:VCALENDAR