BEGIN:VCALENDAR
VERSION:2.0
PRODID:-//SpacePolicyOnline.com - ECPv6.15.11//NONSGML v1.0//EN
CALSCALE:GREGORIAN
METHOD:PUBLISH
X-WR-CALNAME:SpacePolicyOnline.com
X-ORIGINAL-URL:https://spacepolicyonline.com
X-WR-CALDESC:Events for SpacePolicyOnline.com
REFRESH-INTERVAL;VALUE=DURATION:PT1H
X-Robots-Tag:noindex
X-PUBLISHED-TTL:PT1H
BEGIN:VTIMEZONE
TZID:America/New_York
BEGIN:DAYLIGHT
TZOFFSETFROM:-0500
TZOFFSETTO:-0400
TZNAME:EDT
DTSTART:20220313T070000
END:DAYLIGHT
BEGIN:STANDARD
TZOFFSETFROM:-0400
TZOFFSETTO:-0500
TZNAME:EST
DTSTART:20221106T060000
END:STANDARD
BEGIN:DAYLIGHT
TZOFFSETFROM:-0500
TZOFFSETTO:-0400
TZNAME:EDT
DTSTART:20230312T070000
END:DAYLIGHT
BEGIN:STANDARD
TZOFFSETFROM:-0400
TZOFFSETTO:-0500
TZNAME:EST
DTSTART:20231105T060000
END:STANDARD
BEGIN:DAYLIGHT
TZOFFSETFROM:-0500
TZOFFSETTO:-0400
TZNAME:EDT
DTSTART:20240310T070000
END:DAYLIGHT
BEGIN:STANDARD
TZOFFSETFROM:-0400
TZOFFSETTO:-0500
TZNAME:EST
DTSTART:20241103T060000
END:STANDARD
END:VTIMEZONE
BEGIN:VEVENT
DTSTART;TZID=America/New_York:20230602T080000
DTEND;TZID=America/New_York:20230602T230000
DTSTAMP:20260421T053416
CREATED:20230524T115721Z
LAST-MODIFIED:20230524T115721Z
UID:62319-1685692800-1685746800@spacepolicyonline.com
SUMMARY:IISL WORKING GROUP ON LIGHT POLLUTION WEBINAR\, June 2\, 2023\, virtual\, 8:00-10:00 am ET
DESCRIPTION:The International Institute of Space Law’s (IISL’s) Working Group on Light Pollution of the Night Sky from a Space Law Perspective will hold a webinar on June 2\, 2023 from 12:00-14:00 UTC (8:00-10:00 am EDT) to discuss its draft report. \nAdvance registration is required. More information is on the event’s website\, which says: \nThe IISL Working Group on Light Pollution of the Night Sky from a Space Law Perspective recently concluded its working plan\, and it has drafted a report containing all its findings. The report has not been made public yet\, but the conclusions were shared with all delegates and attendees during the IISL/ECSL Symposium of the last session of the COPUOS Legal Subcommittee. \nIISL would like to know your opinion about the report and also with regard to the topic that has been the subject of analysis\, i.e. the steady growth in light pollution of the night sky\, as a result of the increasing presence in low earth orbit of space objects since 2019\, when the first batches of satellites belonging to very large satellite constellations were launched. \nTo that purpose\, IISL is organizing a webinar to which all contributors to the report\, people consulted for the report\, and generally all stakeholders\, including representatives from the operators of constellations\, as well as all members of IISL\, are cordially invited to attend. The webinar will take place on Friday\, 2 June at 12 pm UTC\, and prior registration is required. Please click here to register. \nOnce registered\, you will be provided the details to access the event closer to the date. The webinar will be held on Zoom. \n  \n 
URL:https://spacepolicyonline.com/events/iisl-working-group-on-light-pollution-webinar-june-2-2023-virtual-800-1000-am-et/
END:VEVENT
END:VCALENDAR