BEGIN:VCALENDAR
VERSION:2.0
PRODID:-//SpacePolicyOnline.com - ECPv6.15.11//NONSGML v1.0//EN
CALSCALE:GREGORIAN
METHOD:PUBLISH
X-WR-CALNAME:SpacePolicyOnline.com
X-ORIGINAL-URL:https://spacepolicyonline.com
X-WR-CALDESC:Events for SpacePolicyOnline.com
REFRESH-INTERVAL;VALUE=DURATION:PT1H
X-Robots-Tag:noindex
X-PUBLISHED-TTL:PT1H
BEGIN:VTIMEZONE
TZID:America/New_York
BEGIN:DAYLIGHT
TZOFFSETFROM:-0500
TZOFFSETTO:-0400
TZNAME:EDT
DTSTART:20240310T070000
END:DAYLIGHT
BEGIN:STANDARD
TZOFFSETFROM:-0400
TZOFFSETTO:-0500
TZNAME:EST
DTSTART:20241103T060000
END:STANDARD
BEGIN:DAYLIGHT
TZOFFSETFROM:-0500
TZOFFSETTO:-0400
TZNAME:EDT
DTSTART:20250309T070000
END:DAYLIGHT
BEGIN:STANDARD
TZOFFSETFROM:-0400
TZOFFSETTO:-0500
TZNAME:EST
DTSTART:20251102T060000
END:STANDARD
BEGIN:DAYLIGHT
TZOFFSETFROM:-0500
TZOFFSETTO:-0400
TZNAME:EDT
DTSTART:20260308T070000
END:DAYLIGHT
BEGIN:STANDARD
TZOFFSETFROM:-0400
TZOFFSETTO:-0500
TZNAME:EST
DTSTART:20261101T060000
END:STANDARD
END:VTIMEZONE
BEGIN:VEVENT
DTSTART;TZID=America/New_York:20250122T070000
DTEND;TZID=America/New_York:20250123T130000
DTSTAMP:20260424T131814
CREATED:20241214T211223Z
LAST-MODIFIED:20241214T211223Z
UID:76560-1737529200-1737637200@spacepolicyonline.com
SUMMARY:INNOVATE SPACE: FINANCE FORUM (Space Foundation)\, Jan 22-23\, 2025\, Coral Gables\, FL
DESCRIPTION:The Space Foundation will hold the “Innovate Space: Finance Forum” from January 22-23\, 2025 at Loews Coral Gables Hotel\, Coral Gables\, FL. \nMore information is on the event’s website\, which says:
URL:https://spacepolicyonline.com/events/innovate-space-finance-forum-space-foundation-jan-22-23-2025-coral-gables-fl/
END:VEVENT
END:VCALENDAR