BEGIN:VCALENDAR
VERSION:2.0
PRODID:-//SpacePolicyOnline.com - ECPv6.15.11//NONSGML v1.0//EN
CALSCALE:GREGORIAN
METHOD:PUBLISH
X-WR-CALNAME:SpacePolicyOnline.com
X-ORIGINAL-URL:https://spacepolicyonline.com
X-WR-CALDESC:Events for SpacePolicyOnline.com
REFRESH-INTERVAL;VALUE=DURATION:PT1H
X-Robots-Tag:noindex
X-PUBLISHED-TTL:PT1H
BEGIN:VTIMEZONE
TZID:America/New_York
BEGIN:DAYLIGHT
TZOFFSETFROM:-0500
TZOFFSETTO:-0400
TZNAME:EDT
DTSTART:20200308T070000
END:DAYLIGHT
BEGIN:STANDARD
TZOFFSETFROM:-0400
TZOFFSETTO:-0500
TZNAME:EST
DTSTART:20201101T060000
END:STANDARD
BEGIN:DAYLIGHT
TZOFFSETFROM:-0500
TZOFFSETTO:-0400
TZNAME:EDT
DTSTART:20210314T070000
END:DAYLIGHT
BEGIN:STANDARD
TZOFFSETFROM:-0400
TZOFFSETTO:-0500
TZNAME:EST
DTSTART:20211107T060000
END:STANDARD
BEGIN:DAYLIGHT
TZOFFSETFROM:-0500
TZOFFSETTO:-0400
TZNAME:EDT
DTSTART:20220313T070000
END:DAYLIGHT
BEGIN:STANDARD
TZOFFSETFROM:-0400
TZOFFSETTO:-0500
TZNAME:EST
DTSTART:20221106T060000
END:STANDARD
END:VTIMEZONE
BEGIN:VEVENT
DTSTART;TZID=America/New_York:20210721T163000
DTEND;TZID=America/New_York:20210721T230000
DTSTAMP:20260419T124958
CREATED:20210716T201259Z
LAST-MODIFIED:20210716T201259Z
UID:45408-1626885000-1626908400@spacepolicyonline.com
SUMMARY:INTEGRATING NATL TECH MEANS W/COMMERCIAL CONSTELLATIONS (INSA)\, July 21\, 2021\, virtual\, 4:30-5:15 pm ET
DESCRIPTION:The Intelligence and National Security Alliance (INSA) will hold a “Wednesday Wisdom” webinar on July 21\, 2021 from 4:30-5:15 pm ET. \nThe speaker is Misty Tullar\, CFO and Director\, Business Plans and Operations Directorate\, National Reconnaissance Office\, who will discuss “the integration of National Technical Means with the growing number of commercial constellations. Additionally\, she will offer insights on NRO’s plans to protect its supply chains as well as plans to provide support to Space Command missions and its effect on strategy and financial planning.” \nMore information is on the event’s website.
URL:https://spacepolicyonline.com/events/integrating-natl-tech-means-w-commercial-constellations-insa-july-21-2021-virtual-430-515-pm-et/
END:VEVENT
END:VCALENDAR