BEGIN:VCALENDAR
VERSION:2.0
PRODID:-//SpacePolicyOnline.com - ECPv6.15.11//NONSGML v1.0//EN
CALSCALE:GREGORIAN
METHOD:PUBLISH
X-WR-CALNAME:SpacePolicyOnline.com
X-ORIGINAL-URL:https://spacepolicyonline.com
X-WR-CALDESC:Events for SpacePolicyOnline.com
REFRESH-INTERVAL;VALUE=DURATION:PT1H
X-Robots-Tag:noindex
X-PUBLISHED-TTL:PT1H
BEGIN:VTIMEZONE
TZID:America/New_York
BEGIN:DAYLIGHT
TZOFFSETFROM:-0500
TZOFFSETTO:-0400
TZNAME:EDT
DTSTART:20240310T070000
END:DAYLIGHT
BEGIN:STANDARD
TZOFFSETFROM:-0400
TZOFFSETTO:-0500
TZNAME:EST
DTSTART:20241103T060000
END:STANDARD
BEGIN:DAYLIGHT
TZOFFSETFROM:-0500
TZOFFSETTO:-0400
TZNAME:EDT
DTSTART:20250309T070000
END:DAYLIGHT
BEGIN:STANDARD
TZOFFSETFROM:-0400
TZOFFSETTO:-0500
TZNAME:EST
DTSTART:20251102T060000
END:STANDARD
BEGIN:DAYLIGHT
TZOFFSETFROM:-0500
TZOFFSETTO:-0400
TZNAME:EDT
DTSTART:20260308T070000
END:DAYLIGHT
BEGIN:STANDARD
TZOFFSETFROM:-0400
TZOFFSETTO:-0500
TZNAME:EST
DTSTART:20261101T060000
END:STANDARD
END:VTIMEZONE
BEGIN:VEVENT
DTSTART;TZID=America/New_York:20250324T083000
DTEND;TZID=America/New_York:20250324T230000
DTSTAMP:20260419T231948
CREATED:20250322T170553Z
LAST-MODIFIED:20250322T170553Z
UID:79364-1742805000-1742857200@spacepolicyonline.com
SUMMARY:INTUITIVE MACHINES 4Q2024 AND FULL YEAR 2024 FINANCIAL RESULTS TELECON\, Mar 24\, 2025\, virtual\, 8:30 am ET
DESCRIPTION:Intuitive Machines will hold its fourth quarter 2024 and full year 2024 financial results telecon on March 24\, 2025 at 8:30 am ET. \nMost companies provide a live audio webcast of these quarterly financial results telecons for the public (only journalists can ask questions)\, but the IM announcement says a “webcast replay will be available.”  It’s not clear if the live event also will be available to the public\, but it would be surprising otherwise.  Check the company’s website for further information.
URL:https://spacepolicyonline.com/events/intuitive-machines-4q2024-and-full-year-2024-financial-results-telecon-mar-24-2025-virtual-830-am-et/
END:VEVENT
END:VCALENDAR