BEGIN:VCALENDAR
VERSION:2.0
PRODID:-//SpacePolicyOnline.com - ECPv6.15.11//NONSGML v1.0//EN
CALSCALE:GREGORIAN
METHOD:PUBLISH
X-WR-CALNAME:SpacePolicyOnline.com
X-ORIGINAL-URL:https://spacepolicyonline.com
X-WR-CALDESC:Events for SpacePolicyOnline.com
REFRESH-INTERVAL;VALUE=DURATION:PT1H
X-Robots-Tag:noindex
X-PUBLISHED-TTL:PT1H
BEGIN:VTIMEZONE
TZID:America/New_York
BEGIN:DAYLIGHT
TZOFFSETFROM:-0500
TZOFFSETTO:-0400
TZNAME:EDT
DTSTART:20240310T070000
END:DAYLIGHT
BEGIN:STANDARD
TZOFFSETFROM:-0400
TZOFFSETTO:-0500
TZNAME:EST
DTSTART:20241103T060000
END:STANDARD
BEGIN:DAYLIGHT
TZOFFSETFROM:-0500
TZOFFSETTO:-0400
TZNAME:EDT
DTSTART:20250309T070000
END:DAYLIGHT
BEGIN:STANDARD
TZOFFSETFROM:-0400
TZOFFSETTO:-0500
TZNAME:EST
DTSTART:20251102T060000
END:STANDARD
BEGIN:DAYLIGHT
TZOFFSETFROM:-0500
TZOFFSETTO:-0400
TZNAME:EDT
DTSTART:20260308T070000
END:DAYLIGHT
BEGIN:STANDARD
TZOFFSETFROM:-0400
TZOFFSETTO:-0500
TZNAME:EST
DTSTART:20261101T060000
END:STANDARD
END:VTIMEZONE
BEGIN:VEVENT
DTSTART;TZID=America/New_York:20250115T002000
DTEND;TZID=America/New_York:20250115T230000
DTSTAMP:20260425T230038
CREATED:20250111T132337Z
LAST-MODIFIED:20250111T132337Z
UID:77165-1736900400-1736982000@spacepolicyonline.com
SUMMARY:ISPACE LIVESTREAM FOR HAKUTO-R VENTURE MOON LAUNCH\, Jan 15\, 2025\, begins 12:20 am ET
DESCRIPTION:Japanese lunar lander company ispace will provide a livestream for the launch of its SMBC x HAKUTO-R Venture Moon mission on January 15\, 2025 beginning at 2:20 pm Japan Standard Time (12:20 am Eastern Standard Time). \nThe launch on a SpaceX Falcon 9 rocket from Kennedy Space Center is scheduled for 1:11 am EST.  ispace’s livestream will cover through deployment of the Hakuto-R lander\, Resilience\, and micro-rover\, Tenacious\, from the Falcon 9.  Participants include: \n\nTakeshi Hakamada\, CEO & Founder\, ispace\, inc.\nYoshitsugu Hitachi\, EVP of ispace\, inc.\nMasayuki Urata\, Senior Manager\, Business Development\, ispace\, inc.\nSpecial Guest: Former JAXA Astronaut\n\nThe livestream will be available in English and Japanese. \nispace is ridesharing with Firefly’s Blue Ghost lunar lander. The two will launch on the same Falcon 9 rocket\, but otherwise are unrelated.  Firefly’s lander is part of NASA’s Commercial Lunar Payload Services (CLPS) initiative and NASA and SpaceX will be livestreaming the launch for Firefly’s mission.
URL:https://spacepolicyonline.com/events/ispace-livestream-for-hakuto-r-venture-moon-launch-jan-15-2025-begins-1220-am-et/
END:VEVENT
END:VCALENDAR