BEGIN:VCALENDAR
VERSION:2.0
PRODID:-//SpacePolicyOnline.com - ECPv6.15.11//NONSGML v1.0//EN
CALSCALE:GREGORIAN
METHOD:PUBLISH
X-WR-CALNAME:SpacePolicyOnline.com
X-ORIGINAL-URL:https://spacepolicyonline.com
X-WR-CALDESC:Events for SpacePolicyOnline.com
REFRESH-INTERVAL;VALUE=DURATION:PT1H
X-Robots-Tag:noindex
X-PUBLISHED-TTL:PT1H
BEGIN:VTIMEZONE
TZID:America/New_York
BEGIN:DAYLIGHT
TZOFFSETFROM:-0500
TZOFFSETTO:-0400
TZNAME:EDT
DTSTART:20220313T070000
END:DAYLIGHT
BEGIN:STANDARD
TZOFFSETFROM:-0400
TZOFFSETTO:-0500
TZNAME:EST
DTSTART:20221106T060000
END:STANDARD
BEGIN:DAYLIGHT
TZOFFSETFROM:-0500
TZOFFSETTO:-0400
TZNAME:EDT
DTSTART:20230312T070000
END:DAYLIGHT
BEGIN:STANDARD
TZOFFSETFROM:-0400
TZOFFSETTO:-0500
TZNAME:EST
DTSTART:20231105T060000
END:STANDARD
BEGIN:DAYLIGHT
TZOFFSETFROM:-0500
TZOFFSETTO:-0400
TZNAME:EDT
DTSTART:20240310T070000
END:DAYLIGHT
BEGIN:STANDARD
TZOFFSETFROM:-0400
TZOFFSETTO:-0500
TZNAME:EST
DTSTART:20241103T060000
END:STANDARD
END:VTIMEZONE
BEGIN:VEVENT
DTSTART;TZID=America/New_York:20230111T073000
DTEND;TZID=America/New_York:20230113T230000
DTSTAMP:20260422T151116
CREATED:20221228T210109Z
LAST-MODIFIED:20221228T215630Z
UID:58970-1673422200-1673650800@spacepolicyonline.com
SUMMARY:ISRO SSA & STM WORKSHOP\, Jan 11-13\, 2023\, Bengaluru\, India
DESCRIPTION:The Indian Space Reseach Organisation (ISRO) will hold a workshop on Space Situational Awareness and Space Traffic Management from January 11-13\, 2023 at the Sheraton Grand Bangalore Hotel\, Bengaluru\, India. \nMore information is on the event’s website.
URL:https://spacepolicyonline.com/events/isro-ssa-stm-workshop-jan-11-13-2023-bangalore-india/
END:VEVENT
END:VCALENDAR