BEGIN:VCALENDAR
VERSION:2.0
PRODID:-//SpacePolicyOnline.com - ECPv6.15.11//NONSGML v1.0//EN
CALSCALE:GREGORIAN
METHOD:PUBLISH
X-WR-CALNAME:SpacePolicyOnline.com
X-ORIGINAL-URL:https://spacepolicyonline.com
X-WR-CALDESC:Events for SpacePolicyOnline.com
REFRESH-INTERVAL;VALUE=DURATION:PT1H
X-Robots-Tag:noindex
X-PUBLISHED-TTL:PT1H
BEGIN:VTIMEZONE
TZID:America/New_York
BEGIN:DAYLIGHT
TZOFFSETFROM:-0500
TZOFFSETTO:-0400
TZNAME:EDT
DTSTART:20240310T070000
END:DAYLIGHT
BEGIN:STANDARD
TZOFFSETFROM:-0400
TZOFFSETTO:-0500
TZNAME:EST
DTSTART:20241103T060000
END:STANDARD
BEGIN:DAYLIGHT
TZOFFSETFROM:-0500
TZOFFSETTO:-0400
TZNAME:EDT
DTSTART:20250309T070000
END:DAYLIGHT
BEGIN:STANDARD
TZOFFSETFROM:-0400
TZOFFSETTO:-0500
TZNAME:EST
DTSTART:20251102T060000
END:STANDARD
BEGIN:DAYLIGHT
TZOFFSETFROM:-0500
TZOFFSETTO:-0400
TZNAME:EDT
DTSTART:20260308T070000
END:DAYLIGHT
BEGIN:STANDARD
TZOFFSETFROM:-0400
TZOFFSETTO:-0500
TZNAME:EST
DTSTART:20261101T060000
END:STANDARD
END:VTIMEZONE
BEGIN:VEVENT
DTSTART;TZID=America/New_York:20250418T143000
DTEND;TZID=America/New_York:20250418T230000
DTSTAMP:20260419T193055
CREATED:20250406T154121Z
LAST-MODIFIED:20250406T154121Z
UID:79828-1744986600-1745017200@spacepolicyonline.com
SUMMARY:ISS CHANGE OF COMMAND CEREMONY\, Apr 18\, 2025\, Earth orbit\, 2:40 pm ET
DESCRIPTION:On April 18\, 2025 at 2:40 pm ET\, a change-of-command ceremony will take place on the International Space Station (ISS) as Russian cosmonaut Aleksey Ovchinin turns over command to JAXA astronaut Takuya Onishi. \nOvchinin and his two Soyuz MS-26 crewmates\, cosmonaut Ivan Vagner and NASA astronaut Don Pettit\, will return to Earth on April 20. Their replacements on Soyuz MS-27 will launch and arrive on April 8.
URL:https://spacepolicyonline.com/events/iss-change-of-command-ceremony-apr-18-2025-earth-orbit-240-pm-et/
END:VEVENT
END:VCALENDAR