BEGIN:VCALENDAR
VERSION:2.0
PRODID:-//SpacePolicyOnline.com - ECPv6.15.11//NONSGML v1.0//EN
CALSCALE:GREGORIAN
METHOD:PUBLISH
X-WR-CALNAME:SpacePolicyOnline.com
X-ORIGINAL-URL:https://spacepolicyonline.com
X-WR-CALDESC:Events for SpacePolicyOnline.com
REFRESH-INTERVAL;VALUE=DURATION:PT1H
X-Robots-Tag:noindex
X-PUBLISHED-TTL:PT1H
BEGIN:VTIMEZONE
TZID:America/New_York
BEGIN:DAYLIGHT
TZOFFSETFROM:-0500
TZOFFSETTO:-0400
TZNAME:EDT
DTSTART:20160313T070000
END:DAYLIGHT
BEGIN:STANDARD
TZOFFSETFROM:-0400
TZOFFSETTO:-0500
TZNAME:EST
DTSTART:20161106T060000
END:STANDARD
BEGIN:DAYLIGHT
TZOFFSETFROM:-0500
TZOFFSETTO:-0400
TZNAME:EDT
DTSTART:20170312T070000
END:DAYLIGHT
BEGIN:STANDARD
TZOFFSETFROM:-0400
TZOFFSETTO:-0500
TZNAME:EST
DTSTART:20171105T060000
END:STANDARD
BEGIN:DAYLIGHT
TZOFFSETFROM:-0500
TZOFFSETTO:-0400
TZNAME:EDT
DTSTART:20180311T070000
END:DAYLIGHT
BEGIN:STANDARD
TZOFFSETFROM:-0400
TZOFFSETTO:-0500
TZNAME:EST
DTSTART:20181104T060000
END:STANDARD
END:VTIMEZONE
BEGIN:VEVENT
DTSTART;VALUE=DATE:20170809
DTEND;VALUE=DATE:20170810
DTSTAMP:20260422T181406
CREATED:20170731T133518Z
LAST-MODIFIED:20170731T133518Z
UID:8699-1502236800-1502323199@spacepolicyonline.com
SUMMARY:ISS Stakeholder Workshop\, Aug 9\, 2017\, DC
DESCRIPTION:NASA will hold an “International Space Station Stakeholder Workshop” on August 9\, 2017 from 8:30 am – 6:00 pm ET at the Marriott Marquis Washington DC\, 901 Massachusetts Ave.\, NW\, Washington\, DC. \nThe workshop “targets the commercial space sector\, researchers\, technology developers\, transportation and habitation providers\, other government agencies\, and other interested parties” to engage in a dialogue with NASA “on topics relevant to space station planning.” \nDetails are on the event’s website.
URL:https://spacepolicyonline.com/events/iss-stakeholder-workshop-aug-9-2017-dc/
END:VEVENT
END:VCALENDAR