BEGIN:VCALENDAR
VERSION:2.0
PRODID:-//SpacePolicyOnline.com - ECPv6.15.11//NONSGML v1.0//EN
CALSCALE:GREGORIAN
METHOD:PUBLISH
X-WR-CALNAME:SpacePolicyOnline.com
X-ORIGINAL-URL:https://spacepolicyonline.com
X-WR-CALDESC:Events for SpacePolicyOnline.com
REFRESH-INTERVAL;VALUE=DURATION:PT1H
X-Robots-Tag:noindex
X-PUBLISHED-TTL:PT1H
BEGIN:VTIMEZONE
TZID:America/New_York
BEGIN:DAYLIGHT
TZOFFSETFROM:-0500
TZOFFSETTO:-0400
TZNAME:EDT
DTSTART:20230312T070000
END:DAYLIGHT
BEGIN:STANDARD
TZOFFSETFROM:-0400
TZOFFSETTO:-0500
TZNAME:EST
DTSTART:20231105T060000
END:STANDARD
BEGIN:DAYLIGHT
TZOFFSETFROM:-0500
TZOFFSETTO:-0400
TZNAME:EDT
DTSTART:20240310T070000
END:DAYLIGHT
BEGIN:STANDARD
TZOFFSETFROM:-0400
TZOFFSETTO:-0500
TZNAME:EST
DTSTART:20241103T060000
END:STANDARD
BEGIN:DAYLIGHT
TZOFFSETFROM:-0500
TZOFFSETTO:-0400
TZNAME:EDT
DTSTART:20250309T070000
END:DAYLIGHT
BEGIN:STANDARD
TZOFFSETFROM:-0400
TZOFFSETTO:-0500
TZNAME:EST
DTSTART:20251102T060000
END:STANDARD
END:VTIMEZONE
BEGIN:VEVENT
DTSTART;TZID=America/New_York:20240826T180000
DTEND;TZID=America/New_York:20240826T230000
DTSTAMP:20260421T025701
CREATED:20240815T215208Z
LAST-MODIFIED:20240818T195537Z
UID:73585-1724695200-1724713200@spacepolicyonline.com
SUMMARY:ISU-DC SPACE CAFE WITH ASTROSCALE'S DENNIS WILLE\, Aug 26\, 2024\, Arlington\, VA\, 6:00-8:00 pm ET
DESCRIPTION:The International Space University – USA Alumni Association DC Chapter (ISU-DC) will hold its next Space Café on August 26\, 2024 from 6:00-8:00 pm ET at 1020 N. Highland St. (The Phoenix\, Clubhouse Room)\, Arlington\, VA. \nThe speaker is Dennis Wille\, Astroscale US Senior Director for National Security Business Development. \nMore information is on the event’s website.
URL:https://spacepolicyonline.com/events/isu-dc-space-cafe-with-astroscales-dennis-wille-aug-26-2024-arlington-va-600-800-pm-et/
END:VEVENT
END:VCALENDAR