BEGIN:VCALENDAR
VERSION:2.0
PRODID:-//SpacePolicyOnline.com - ECPv6.15.11//NONSGML v1.0//EN
CALSCALE:GREGORIAN
METHOD:PUBLISH
X-WR-CALNAME:SpacePolicyOnline.com
X-ORIGINAL-URL:https://spacepolicyonline.com
X-WR-CALDESC:Events for SpacePolicyOnline.com
REFRESH-INTERVAL;VALUE=DURATION:PT1H
X-Robots-Tag:noindex
X-PUBLISHED-TTL:PT1H
BEGIN:VTIMEZONE
TZID:America/New_York
BEGIN:DAYLIGHT
TZOFFSETFROM:-0500
TZOFFSETTO:-0400
TZNAME:EDT
DTSTART:20160313T070000
END:DAYLIGHT
BEGIN:STANDARD
TZOFFSETFROM:-0400
TZOFFSETTO:-0500
TZNAME:EST
DTSTART:20161106T060000
END:STANDARD
BEGIN:DAYLIGHT
TZOFFSETFROM:-0500
TZOFFSETTO:-0400
TZNAME:EDT
DTSTART:20170312T070000
END:DAYLIGHT
BEGIN:STANDARD
TZOFFSETFROM:-0400
TZOFFSETTO:-0500
TZNAME:EST
DTSTART:20171105T060000
END:STANDARD
BEGIN:DAYLIGHT
TZOFFSETFROM:-0500
TZOFFSETTO:-0400
TZNAME:EDT
DTSTART:20180311T070000
END:DAYLIGHT
BEGIN:STANDARD
TZOFFSETFROM:-0400
TZOFFSETTO:-0500
TZNAME:EST
DTSTART:20181104T060000
END:STANDARD
END:VTIMEZONE
BEGIN:VEVENT
DTSTART;TZID=America/New_York:20170808T190000
DTEND;TZID=America/New_York:20170808T210000
DTSTAMP:20260422T192142
CREATED:20170731T133412Z
LAST-MODIFIED:20170803T012830Z
UID:8697-1502218800-1502226000@spacepolicyonline.com
SUMMARY:ISU-DC Space Cafe with NRL's Paul Jaffe\, Aug 8\, 2017\, DC
DESCRIPTION:The DC chapter of the International Space University U.S. Alumni Association (ISU-DC) will holds its next Space Cafe on August 8\, 2017 at Cotton & Reed\, 1330 5th St\, NE\, Washington\, DC at 7:00 pm ET.  The speaker is Paul Jaffe\, an electronics engineer at the Naval Research Lab (NRL) who will speak on “The Opportunity of Space Solar.” \nFor more information contact Angela Peura at isudcspacecafe@gmail.com. \nThe emailed announcement is reproduced below: \nGreetings! \nThe International Space University-US Alumni Association’s Washington\, DC Chapter presents monthly Space Cafes! These events bring together prominent experts on space\, ISU alumni\, the space community\, and the interested public in a casual forum that encourages interaction and discussion. \nThe Space Cafes begin at 7pm and are hosted by the Cotton & Reed\, located at 1330 5th Street\, NE\, Washington\, DC: https://www.cottonandreed.com/home. \nThis month’s speaker will be Dr. Paul Jaffe\, an electronics engineer in the Spacecraft Engineering Department of the U.S. Naval Research Laboratory\, who will speak on the topic “The Opportunity of Space Solar”. \nPlease join us on Tuesday\, August 8th to hear what Paul has to say and add your voice to the discussion. There’s no need to RSVP\, but if you have questions or suggestions for future speakers\, please feel free to contact me at isudcspacecafe@gmail.com. \nSee you there! — \nAngela D. Peura ISU-DC Alumni Rep SSP 07
URL:https://spacepolicyonline.com/events/isu-dc-space-cafe-with-nrls-paul-jaffe-aug-8-2017-dc/
END:VEVENT
END:VCALENDAR