BEGIN:VCALENDAR
VERSION:2.0
PRODID:-//SpacePolicyOnline.com - ECPv6.15.11//NONSGML v1.0//EN
CALSCALE:GREGORIAN
METHOD:PUBLISH
X-WR-CALNAME:SpacePolicyOnline.com
X-ORIGINAL-URL:https://spacepolicyonline.com
X-WR-CALDESC:Events for SpacePolicyOnline.com
REFRESH-INTERVAL;VALUE=DURATION:PT1H
X-Robots-Tag:noindex
X-PUBLISHED-TTL:PT1H
BEGIN:VTIMEZONE
TZID:America/New_York
BEGIN:DAYLIGHT
TZOFFSETFROM:-0500
TZOFFSETTO:-0400
TZNAME:EDT
DTSTART:20200308T070000
END:DAYLIGHT
BEGIN:STANDARD
TZOFFSETFROM:-0400
TZOFFSETTO:-0500
TZNAME:EST
DTSTART:20201101T060000
END:STANDARD
BEGIN:DAYLIGHT
TZOFFSETFROM:-0500
TZOFFSETTO:-0400
TZNAME:EDT
DTSTART:20210314T070000
END:DAYLIGHT
BEGIN:STANDARD
TZOFFSETFROM:-0400
TZOFFSETTO:-0500
TZNAME:EST
DTSTART:20211107T060000
END:STANDARD
BEGIN:DAYLIGHT
TZOFFSETFROM:-0500
TZOFFSETTO:-0400
TZNAME:EDT
DTSTART:20220313T070000
END:DAYLIGHT
BEGIN:STANDARD
TZOFFSETFROM:-0400
TZOFFSETTO:-0500
TZNAME:EST
DTSTART:20221106T060000
END:STANDARD
END:VTIMEZONE
BEGIN:VEVENT
DTSTART;TZID=America/New_York:20211207T130000
DTEND;TZID=America/New_York:20211207T230000
DTSTAMP:20260420T113927
CREATED:20211130T221645Z
LAST-MODIFIED:20211130T221645Z
UID:48769-1638882000-1638918000@spacepolicyonline.com
SUMMARY:IXPE PAYLOAD BRIEFING\, Dec 7\, 2021\, KSC/virtual\, 1:00 pm ET
DESCRIPTION:NASA will hold a payload briefing on December 7\, 2021 at 1:00 pm ET for the Imaging X-Ray Polarimeter Explorer (IXPE) mission that is scheduled for launch on December 9. \nThe briefing will take place at Kennedy Space Center and will air on NASA Television\, the NASA app\, and the agency’s website. \nParticipants are: \n\nElisabetta Cavazzuti\, ASI IXPE program manager\, Italian Space Agency\nLuca Baldini\, Italian co-principal investigator\, National Institute for Nuclear Physics\nBrian Ramsey\, deputy principal investigator\, NASA’s Marshall Space Flight Center\nMacKenzie Ferrie\, IXPE program manager\, Ball Aerospace\n\nA pre-launch briefing will take place later that day at 5:30 pm ET.  See our separate Calendar entry for that one.
URL:https://spacepolicyonline.com/events/ixpe-payload-briefing-dec-7-2021-ksc-virtual-100-pm-et/
END:VEVENT
END:VCALENDAR