BEGIN:VCALENDAR
VERSION:2.0
PRODID:-//SpacePolicyOnline.com - ECPv6.15.11//NONSGML v1.0//EN
CALSCALE:GREGORIAN
METHOD:PUBLISH
X-WR-CALNAME:SpacePolicyOnline.com
X-ORIGINAL-URL:https://spacepolicyonline.com
X-WR-CALDESC:Events for SpacePolicyOnline.com
REFRESH-INTERVAL;VALUE=DURATION:PT1H
X-Robots-Tag:noindex
X-PUBLISHED-TTL:PT1H
BEGIN:VTIMEZONE
TZID:America/New_York
BEGIN:DAYLIGHT
TZOFFSETFROM:-0500
TZOFFSETTO:-0400
TZNAME:EDT
DTSTART:20200308T070000
END:DAYLIGHT
BEGIN:STANDARD
TZOFFSETFROM:-0400
TZOFFSETTO:-0500
TZNAME:EST
DTSTART:20201101T060000
END:STANDARD
BEGIN:DAYLIGHT
TZOFFSETFROM:-0500
TZOFFSETTO:-0400
TZNAME:EDT
DTSTART:20210314T070000
END:DAYLIGHT
BEGIN:STANDARD
TZOFFSETFROM:-0400
TZOFFSETTO:-0500
TZNAME:EST
DTSTART:20211107T060000
END:STANDARD
BEGIN:DAYLIGHT
TZOFFSETFROM:-0500
TZOFFSETTO:-0400
TZNAME:EDT
DTSTART:20220313T070000
END:DAYLIGHT
BEGIN:STANDARD
TZOFFSETFROM:-0400
TZOFFSETTO:-0500
TZNAME:EST
DTSTART:20221106T060000
END:STANDARD
END:VTIMEZONE
BEGIN:VEVENT
DTSTART;TZID=America/New_York:20210120T080000
DTEND;TZID=America/New_York:20210120T230000
DTSTAMP:20260419T150330
CREATED:20201217T221021Z
LAST-MODIFIED:20201217T221055Z
UID:40050-1611129600-1611183600@spacepolicyonline.com
SUMMARY:January 20\, 2021 (Federal Holiday in D.C. Area)
DESCRIPTION:January 20\, 2021\, Inauguration Day\, is a Federal holiday in the “Inauguration Day area” in and around Washington\, D.C. \nThe Office of Personnel Management memo explaining the holiday identifies the affected jurisdictions\, which are set in law\, as follows: \nInauguration Day falls on Wednesday\, January 20\, 2021\, and it is established by statute as a holiday only for Federal employees who work in the “Inauguration Day area” (defined in law as the District of Columbia\, Montgomery and Prince George’s Counties in Maryland\, Arlington and Fairfax Counties in Virginia\, and the cities of Alexandria and Falls Church in Virginia).  (See 5 U.S.C. 6103(c).)  The City of Fairfax is considered to be part of Fairfax County for this purpose.
URL:https://spacepolicyonline.com/events/january-20-2021-federal-holiday-in-d-c-area/
END:VEVENT
END:VCALENDAR