BEGIN:VCALENDAR
VERSION:2.0
PRODID:-//SpacePolicyOnline.com - ECPv6.15.11//NONSGML v1.0//EN
CALSCALE:GREGORIAN
METHOD:PUBLISH
X-WR-CALNAME:SpacePolicyOnline.com
X-ORIGINAL-URL:https://spacepolicyonline.com
X-WR-CALDESC:Events for SpacePolicyOnline.com
REFRESH-INTERVAL;VALUE=DURATION:PT1H
X-Robots-Tag:noindex
X-PUBLISHED-TTL:PT1H
BEGIN:VTIMEZONE
TZID:America/New_York
BEGIN:DAYLIGHT
TZOFFSETFROM:-0500
TZOFFSETTO:-0400
TZNAME:EDT
DTSTART:20220313T070000
END:DAYLIGHT
BEGIN:STANDARD
TZOFFSETFROM:-0400
TZOFFSETTO:-0500
TZNAME:EST
DTSTART:20221106T060000
END:STANDARD
BEGIN:DAYLIGHT
TZOFFSETFROM:-0500
TZOFFSETTO:-0400
TZNAME:EDT
DTSTART:20230312T070000
END:DAYLIGHT
BEGIN:STANDARD
TZOFFSETFROM:-0400
TZOFFSETTO:-0500
TZNAME:EST
DTSTART:20231105T060000
END:STANDARD
BEGIN:DAYLIGHT
TZOFFSETFROM:-0500
TZOFFSETTO:-0400
TZNAME:EDT
DTSTART:20240310T070000
END:DAYLIGHT
BEGIN:STANDARD
TZOFFSETFROM:-0400
TZOFFSETTO:-0500
TZNAME:EST
DTSTART:20241103T060000
END:STANDARD
END:VTIMEZONE
BEGIN:VEVENT
DTSTART;TZID=America/New_York:20230113T163000
DTEND;TZID=America/New_York:20230113T230000
DTSTAMP:20260422T095441
CREATED:20230111T231120Z
LAST-MODIFIED:20230112T133911Z
UID:59258-1673627400-1673650800@spacepolicyonline.com
SUMMARY:JAPANESE PRIME MINISTER FUMIO KISHIDA VISITS NASA HQ\, Jan 13\, 2023\, DC\, 4:30 pm ET
DESCRIPTION:Japanese Prime Minister KISHIDA Fumio will visit NASA Headquarters in Washington\, DC on January 13\, 2023 accompanied by U.S. Secretary of State Antony Blinken. \nNASA Administrator Bill Nelson and Deputy Administrator Pam Melroy will be their hosts. \nJapanese Ambassador to the U.S. TOMITA Koji\, Japan Aerospace Exploration Agency President (JAXA) YAMAKAWA Hiroshi\, and U.S. Ambassador to Japan Rahm Emanuel\, also will be in attendance. \nBlinken and Japan’s Minister for Foreign Affairs HAYASHI Yoshimasa are expected to sign an agreement that will build on the nations’ commitment to the peaceful\, transparent exploration of space. \nThe event will air on NASA Television\, NASA app\, and the agency’s website\, as well as flagship Twitter and YouTube channels
URL:https://spacepolicyonline.com/events/japanese-prime-minister-fumio-kishida-visits-nasa-hq-jan-13-2023-dc-430-pm-et/
END:VEVENT
END:VCALENDAR