BEGIN:VCALENDAR
VERSION:2.0
PRODID:-//SpacePolicyOnline.com - ECPv6.15.11//NONSGML v1.0//EN
CALSCALE:GREGORIAN
METHOD:PUBLISH
X-WR-CALNAME:SpacePolicyOnline.com
X-ORIGINAL-URL:https://spacepolicyonline.com
X-WR-CALDESC:Events for SpacePolicyOnline.com
REFRESH-INTERVAL;VALUE=DURATION:PT1H
X-Robots-Tag:noindex
X-PUBLISHED-TTL:PT1H
BEGIN:VTIMEZONE
TZID:America/New_York
BEGIN:DAYLIGHT
TZOFFSETFROM:-0500
TZOFFSETTO:-0400
TZNAME:EDT
DTSTART:20230312T070000
END:DAYLIGHT
BEGIN:STANDARD
TZOFFSETFROM:-0400
TZOFFSETTO:-0500
TZNAME:EST
DTSTART:20231105T060000
END:STANDARD
BEGIN:DAYLIGHT
TZOFFSETFROM:-0500
TZOFFSETTO:-0400
TZNAME:EDT
DTSTART:20240310T070000
END:DAYLIGHT
BEGIN:STANDARD
TZOFFSETFROM:-0400
TZOFFSETTO:-0500
TZNAME:EST
DTSTART:20241103T060000
END:STANDARD
BEGIN:DAYLIGHT
TZOFFSETFROM:-0500
TZOFFSETTO:-0400
TZNAME:EDT
DTSTART:20250309T070000
END:DAYLIGHT
BEGIN:STANDARD
TZOFFSETFROM:-0400
TZOFFSETTO:-0500
TZNAME:EST
DTSTART:20251102T060000
END:STANDARD
END:VTIMEZONE
BEGIN:VEVENT
DTSTART;TZID=America/New_York:20240917T110000
DTEND;TZID=America/New_York:20240917T230000
DTSTAMP:20260420T224605
CREATED:20240911T210036Z
LAST-MODIFIED:20240911T210036Z
UID:74137-1726570800-1726614000@spacepolicyonline.com
SUMMARY:JPL NEWS CONFERENCE ON EUROPA CLIPPER\, Sept 17\, 2024\, JPL\, 11:00 am ET
DESCRIPTION:The Jet Propulsion Laboratory will hold a news conference on September 17\, 2024 at 11:00 am ET (8:00 am local time) to discuss the Europa Clipper mission\, which was just approved for launch next month. \nThe news conference will air live on NASA+ and the agency’s website\, plus Facebook\, X\, and YouTube. \nParticipants are: \n\nGina DiBraccio\, acting director\, Planetary Science Division\, NASA Headquarters\nJordan Evans\, project manager\, Europa Clipper\, NASA’s Jet Propulsion Laboratory\nBonnie Buratti\, deputy project scientist\, Europa Clipper\, JPL\nStuart Hill\, propulsion module delivery manager\, Johns Hopkins University Applied Physics Laboratory\nArmando Piloto\, senior mission manager\, NASA’s Launch Services Program\n\n 
URL:https://spacepolicyonline.com/events/jpl-news-conference-on-europa-clipper-sept-17-2024-jpl-1100-am-et/
END:VEVENT
END:VCALENDAR