BEGIN:VCALENDAR
VERSION:2.0
PRODID:-//SpacePolicyOnline.com - ECPv6.15.11//NONSGML v1.0//EN
CALSCALE:GREGORIAN
METHOD:PUBLISH
X-WR-CALNAME:SpacePolicyOnline.com
X-ORIGINAL-URL:https://spacepolicyonline.com
X-WR-CALDESC:Events for SpacePolicyOnline.com
REFRESH-INTERVAL;VALUE=DURATION:PT1H
X-Robots-Tag:noindex
X-PUBLISHED-TTL:PT1H
BEGIN:VTIMEZONE
TZID:America/New_York
BEGIN:DAYLIGHT
TZOFFSETFROM:-0500
TZOFFSETTO:-0400
TZNAME:EDT
DTSTART:20210314T070000
END:DAYLIGHT
BEGIN:STANDARD
TZOFFSETFROM:-0400
TZOFFSETTO:-0500
TZNAME:EST
DTSTART:20211107T060000
END:STANDARD
BEGIN:DAYLIGHT
TZOFFSETFROM:-0500
TZOFFSETTO:-0400
TZNAME:EDT
DTSTART:20220313T070000
END:DAYLIGHT
BEGIN:STANDARD
TZOFFSETFROM:-0400
TZOFFSETTO:-0500
TZNAME:EST
DTSTART:20221106T060000
END:STANDARD
BEGIN:DAYLIGHT
TZOFFSETFROM:-0500
TZOFFSETTO:-0400
TZNAME:EDT
DTSTART:20230312T070000
END:DAYLIGHT
BEGIN:STANDARD
TZOFFSETFROM:-0400
TZOFFSETTO:-0500
TZNAME:EST
DTSTART:20231105T060000
END:STANDARD
END:VTIMEZONE
BEGIN:VEVENT
DTSTART;TZID=America/New_York:20221028T180000
DTEND;TZID=America/New_York:20221028T230000
DTSTAMP:20260424T073718
CREATED:20221023T160200Z
LAST-MODIFIED:20221023T160200Z
UID:57190-1666980000-1666998000@spacepolicyonline.com
SUMMARY:JPSS-2/LOFTID PRE-LAUNCH NEWS CONFERENCE\, Oct 28\, 2022\, VSFB/virtual\, 6:00 pm ET
DESCRIPTION:NASA will hold a pre-launch news conference for the launch of NOAA’s Joint Polar Satellite System-2 (JPSS-2) and NASA’s Low-Earth Orbit Flight Test of an Inflatable Decelerator (LOFTID) technology demonstrator at 6:00 pm Eastern Time (3:00 pm Pacific) on October 28\, 2022 at Vandenberg Space Force Base\, CA. The launch is scheduled for November 1\, 2022 at 5:25 am Eastern (2:25 am Pacific) from Vandenberg Space Force Base\, CA. \nThe pre-launch briefing at Vandenberg will be broadcast on NASA Television\, the NASA app\, and NASA Live. \nParticipants are: \n\nTim Walsh\, director\, NOAA’s JPSS Program Office\, NOAA\nJohn Gagosian\, director\, NASA’s Joint Agency Satellite Division\nIrene Parker\, deputy assistant administrator\, NOAA Systems\, National Environmental Satellite\, Data\, and Services\nOmar Baez\, launch director\, NASA’s Launch Services Program\nGary Wentz\, vice president\, Government and Commercial Programs\, ULA\nJim Reuter\, associate administrator for NASA’s Space Technology Mission Directorate\nCapt. Zack Zounes\, launch weather officer\, U.S. Space Force
URL:https://spacepolicyonline.com/events/jpss-2-loftid-pre-launch-news-conference-oct-28-2022-vsfb-virtual-600-pm-et/
END:VEVENT
END:VCALENDAR